BEGIN:VCALENDAR
VERSION:2.0
PRODID:-//Library Live - ECPv6.15.13.1//NONSGML v1.0//EN
CALSCALE:GREGORIAN
METHOD:PUBLISH
X-WR-CALNAME:Library Live
X-ORIGINAL-URL:https://librarylive.co.uk
X-WR-CALDESC:Events for Library Live
REFRESH-INTERVAL;VALUE=DURATION:PT1H
X-Robots-Tag:noindex
X-PUBLISHED-TTL:PT1H
BEGIN:VTIMEZONE
TZID:UTC
BEGIN:STANDARD
TZOFFSETFROM:+0000
TZOFFSETTO:+0000
TZNAME:UTC
DTSTART:20210101T000000
END:STANDARD
END:VTIMEZONE
BEGIN:VEVENT
DTSTART;TZID=UTC:20220112T170000
DTEND;TZID=UTC:20220209T190000
DTSTAMP:20260419T191920
CREATED:20220104T150752Z
LAST-MODIFIED:20220110T104212Z
UID:5686-1642006800-1644433200@librarylive.co.uk
SUMMARY:Creative Writing Class
DESCRIPTION:Writer Cathy Crabb is running a weekly drop in for anyone who would like to spend a couple of hours strolling through storytelling. \nWith a different exercise per week it could be anything from a screenplay to flash fiction to songwriting – just to give your mind a welcome circuit break and a bit of escapism. \nThe exercises are designed around inclusivity – whether you are an experienced writer or just fancy exercising your imagination. This is a kind and inclusive group and people from all backgrounds and abilities are very welcome. Just for fun! \nThe dates are – \nWednesday 12th January 5-7pm\nWednesday 19th January 5-7pm\nWednesday 26th January 5-7pm\nWednesday 2nd February 5-7pm\nWednesday 9th February 5-7pm \nEach class will be held in the Chief Librarian’s Office on the 3rd Floor of Central Library. \nFor more information please contact Cathy at cathycrabb@gmail.com. \n 
URL:https://librarylive.co.uk/event/creative-writing-class/
LOCATION:Chief Librarian’s Office
CATEGORIES:Workshops,Writing
ATTACH;FMTTYPE=image/jpeg:https://librarylive.co.uk/wp-content/uploads/2022/01/cathy-workshops-1.jpg
END:VEVENT
END:VCALENDAR