BEGIN:VCALENDAR
VERSION:2.0
PRODID:-//Library Live - ECPv6.15.13.1//NONSGML v1.0//EN
CALSCALE:GREGORIAN
METHOD:PUBLISH
X-WR-CALNAME:Library Live
X-ORIGINAL-URL:https://librarylive.co.uk
X-WR-CALDESC:Events for Library Live
REFRESH-INTERVAL;VALUE=DURATION:PT1H
X-Robots-Tag:noindex
X-PUBLISHED-TTL:PT1H
BEGIN:VTIMEZONE
TZID:UTC
BEGIN:STANDARD
TZOFFSETFROM:+0000
TZOFFSETTO:+0000
TZNAME:UTC
DTSTART:20160101T000000
END:STANDARD
END:VTIMEZONE
BEGIN:VEVENT
DTSTART;TZID=UTC:20171115T190000
DTEND;TZID=UTC:20171115T210000
DTSTAMP:20260424T230121
CREATED:20171004T082918Z
LAST-MODIFIED:20171004T082918Z
UID:1003-1510772400-1510779600@librarylive.co.uk
SUMMARY:Jennifer Egan
DESCRIPTION:Acclaimed American author Jennifer Egan makes a rare UK visit to talk about her forthcoming novel\, Manhattan Beach – her first foray into historical fiction. Set during the Depression and then the war\, it tells the story of Anna Kerrigan\, a navy diver making her own way at a transformative time for women; in a Brooklyn populated by sailors and gangsters\, tragic starlets and mysterious tycoons. Kirkus Reviews called it ‘haunting…Realistically detailed\, poetically charged\, and utterly satisfying: apparently there’s nothing Egan can’t do.’ \nJennifer’s previous novels include A Visit From the Goon Squad (winner of the Pulitzer Prize\, The National Book Critics Circle Award and the LA Times Book Prize)\, the Invisible Circus and The Keep. Her short stories have been published in The New Yorker\, Harper’s\, Granta and McSweeney’s\, and her journalism regularly appears in The New York Times Magazine. Hosted by Katie Popperwell. \nThis event is part of Manchester Literature Festival 2017 \nBook on 0843 208 0500 or
URL:https://librarylive.co.uk/event/jennifer-egan/
LOCATION:Performance Space
CATEGORIES:Writing
ATTACH;FMTTYPE=image/jpeg:https://librarylive.co.uk/wp-content/uploads/2017/10/Egan-Jennifer.jpg
END:VEVENT
END:VCALENDAR