BEGIN:VCALENDAR
VERSION:2.0
PRODID:-//Library Live - ECPv6.15.13.1//NONSGML v1.0//EN
CALSCALE:GREGORIAN
METHOD:PUBLISH
X-ORIGINAL-URL:https://librarylive.co.uk
X-WR-CALDESC:Events for Library Live
REFRESH-INTERVAL;VALUE=DURATION:PT1H
X-Robots-Tag:noindex
X-PUBLISHED-TTL:PT1H
BEGIN:VTIMEZONE
TZID:UTC
BEGIN:STANDARD
TZOFFSETFROM:+0000
TZOFFSETTO:+0000
TZNAME:UTC
DTSTART:20160101T000000
END:STANDARD
END:VTIMEZONE
BEGIN:VEVENT
DTSTART;TZID=UTC:20171007T153000
DTEND;TZID=UTC:20171007T170000
DTSTAMP:20260425T003922
CREATED:20170927T105540Z
LAST-MODIFIED:20170927T105540Z
UID:941-1507390200-1507395600@librarylive.co.uk
SUMMARY:Asha Lul Mohamud Yusuf & Clare Pollard: The Sea-Migrations
DESCRIPTION:Asha Lul Mohamud Yusuf is fast emerging as one of the most outstanding Somali poets. Although she has lived in exile in the UK for twenty years\, through recordings\, TV and the internet\, her poems are well known among Somalis both at home and abroad. A powerful woman poet in a literary tradition still largely dominated by men\, Asha is a master of the major Somali poetic forms\, including the prestigious gabay which presents compelling arguments with mesmerising feats of alliteration. However\, while her poems are classical in construction they are unmistakeably contemporary\, engaging passionately with the themes of war and displacement that have touched the lives of an entire generation of Somalis. \nAsha reads alongside leading poet Clare Pollard\, who shares her brand-new English translations of Asha’s poems. This bilingual reading celebrates the long-standing friendship and collaboration between these two poets\, and marks the publication of The Sea-Migrations. \nThis event is part of Manchester Literature Festival 2017 \nTickets are free but booking is advised (donations welcome on the door) \nBook on 0843 208 0500 or
URL:https://librarylive.co.uk/event/asha-lul-mohamud-yusuf-clare-pollard-sea-migrations/
LOCATION:Performance Space
CATEGORIES:Writing
ATTACH;FMTTYPE=image/jpeg:https://librarylive.co.uk/wp-content/uploads/2017/09/Asha-Lul-Mohamud-Yusuf-Photo-Credit-Crispin-Hughes.jpg
END:VEVENT
BEGIN:VEVENT
DTSTART;TZID=UTC:20171008T190000
DTEND;TZID=UTC:20171008T210000
DTSTAMP:20260425T003922
CREATED:20170927T110353Z
LAST-MODIFIED:20170927T110353Z
UID:946-1507489200-1507496400@librarylive.co.uk
SUMMARY:Roddy Doyle
DESCRIPTION:THIS EVENT IS FULLY BOOKED \nJoin us for an intimate evening with one of Ireland’s best-loved writers\, Roddy Doyle\, discussing his books\, his films\, and his forthcoming novel\, Smile. It tells the captivating story of Victor Forde\, for whom a chance meeting in a pub conjures up long-buried childhood memories – and it’s a book about how we all struggle to accommodate our past selves. \nRoddy is the author of eleven novels for adults including Paddy Clarke Ha Ha Ha (winner of The Man Booker Prize)\, The Barrytown Trilogy\, and The Woman Who Walked Into Doors\, as well as eight books for children and many short stories\, plays and screenplays. His book The Commitments was adapted into a hit film in 1991. Roddy will be in conversation with host Alex Clark. \nThis event will be BSL interpreted \nThis event is part of Manchester Literature Festival 2017 \n 
URL:https://librarylive.co.uk/event/roddy-doyle/
LOCATION:Performance Space
CATEGORIES:Writing
ATTACH;FMTTYPE=image/jpeg:https://librarylive.co.uk/wp-content/uploads/2017/09/Roddy-Doyle-photo.jpg
END:VEVENT
BEGIN:VEVENT
DTSTART;TZID=UTC:20171010T183000
DTEND;TZID=UTC:20171010T200000
DTSTAMP:20260425T003922
CREATED:20170927T120222Z
LAST-MODIFIED:20170927T120222Z
UID:955-1507660200-1507665600@librarylive.co.uk
SUMMARY:Will Self
DESCRIPTION:THIS EVENT IS NOW FULLY BOOKED \nA sharp-eyed\, merciless commentator on modern times and modern mores\, from the sublime to the ridiculous – no one writes quite like Will Self. Join us for a conversation with the cult author\, broadcaster and critic about his new novel\, Phone\, a wildly funny send-up of contemporary British life. Through the chronicles of Jonathan De’Ath\, aka ‘The Butcher’\, Will takes aim at technology\, public identities and the military industrial complex\, in his own inimitable prose. \nA prolific and celebrated journalist and author of both nonfiction and fiction\, his previous books include Umbrella (shortlisted for The Man Booker Prize)\, Shark\, and The Book of Dave. Hosted by Alex Clark. \nThis event is part of Manchester Literature Festival 2017
URL:https://librarylive.co.uk/event/will-self/
LOCATION:Performance Space
CATEGORIES:Writing
ATTACH;FMTTYPE=image/jpeg:https://librarylive.co.uk/wp-content/uploads/2017/09/Will-Self-1.jpg
END:VEVENT
BEGIN:VEVENT
DTSTART;TZID=UTC:20171011T190000
DTEND;TZID=UTC:20171011T210000
DTSTAMP:20260425T003922
CREATED:20170926T135800Z
LAST-MODIFIED:20170927T082216Z
UID:895-1507748400-1507755600@librarylive.co.uk
SUMMARY:Alan Hollinghurst
DESCRIPTION:In 1940 Evert Dax and David Sparsholt\, two men from very different backgrounds\, are thrown together at Oxford University\, amid the fear and recklessness of war. In Alan Hollinghurst’s long-awaited new novel\, The Sparsholt Affair\, we follow the two through the decades as fashions change and their country is transformed around them\, ending in a contemporary London of new ideas. It’s a masterly novel about sexuality\, art\, intimacy and family secrets from one of our most gifted writers of fiction. \nAlan’s previous novels include The Line of Beauty\, The Swimming Pool Library and The Stranger’s Child\, and his awards include The Man Booker Prize\, the James Tait Black Memorial Prize and the Somerset Maugham Award. He will be in conversation with MLF Patron and Observer critic Rachel Cooke. \nThis event is part of Manchester Literature Festival 2017 \nBook on 0843 208 0500 or
URL:https://librarylive.co.uk/event/alan-hollinghurst/
LOCATION:Performance Space
CATEGORIES:Writing
ATTACH;FMTTYPE=image/jpeg:https://librarylive.co.uk/wp-content/uploads/2017/09/Alan-Hollinghurst-NEW-PHOTO-c-Robert-Taylor-2017.jpg
END:VEVENT
BEGIN:VEVENT
DTSTART;TZID=UTC:20171012T183000
DTEND;TZID=UTC:20171012T200000
DTSTAMP:20260425T003922
CREATED:20170927T112703Z
LAST-MODIFIED:20170927T112703Z
UID:965-1507833000-1507838400@librarylive.co.uk
SUMMARY:Harriet Harman
DESCRIPTION:THIS EVENT IS FULLY BOOKED \nWhen Harriet Harman entered politics\, a woman couldn’t sign for a mortgage and jobs were advertised at a lower ‘woman’s rate’. We’ve come a long way since then\, but as Harriet shows in her new book\, we have longer still to go. Join us for a searching and intimate conversation with the leading Labour Party MP about her 30 years in politics and her engrossing new memoir\, A Woman’s Work. \nIt recalls her many challenging experiences as a working mother serving in Britain’s tradition-bound Parliamentary culture\, her work reforming laws on maternity rights\, childcare and domestic violence\, and her continuing fight to get more women into government as Britain’s longest continuously serving female MP. Harriet will be in conversation with host Sarfraz Manzoor. \nThis event will be BSL interpreted
URL:https://librarylive.co.uk/event/harriet-harman/
LOCATION:Performance Space
CATEGORIES:Writing
ATTACH;FMTTYPE=image/jpeg:https://librarylive.co.uk/wp-content/uploads/2017/09/HARRIET-HARMAN-AUTHOR-PHOTO.jpg
END:VEVENT
BEGIN:VEVENT
DTSTART;TZID=UTC:20171013T183000
DTEND;TZID=UTC:20171013T200000
DTSTAMP:20260425T003922
CREATED:20170926T140848Z
LAST-MODIFIED:20170927T082625Z
UID:902-1507919400-1507924800@librarylive.co.uk
SUMMARY:Renni Eddo-Lodge
DESCRIPTION:Join Reni Eddo-Lodge for a discussion about her critically acclaimed book\, Why I’m No Longer Talking to White People About Race – an urgent and powerful analysis of race in Modern Britain from one of the country’s most inspiring young journalists. \nTaking its title from the viral blog post that voiced the frustrations of so many and changed the conversation about race in the media\, Reni’s book creates a new framework for how to see\, acknowledge and counter racism. In it\, she explores everything from the erasure of black history to the political purpose of white dominance; from the whitewashing of feminism to the link between class and race. An award-winning writer\, Reni has written for publications including The New York Times\, the Guardian\, Dazed and Confused and the hit anthology The Good Immigrant. \n‘Blistering… Absolutely vital reading from one of the most exciting voices in Britain. A stunningly important book’ Paris Lees \nHosted by Matthew Xia. \nThis event is part of Manchester Literature Festival 2017 \nBook on 0843 208 0500 or
URL:https://librarylive.co.uk/event/renni-eddo-lodge/
LOCATION:Performance Space
CATEGORIES:Writing
ATTACH;FMTTYPE=image/jpeg:https://librarylive.co.uk/wp-content/uploads/2017/09/Reni-Eddo-Lodge-©-Amaal-Said.jpg
END:VEVENT
BEGIN:VEVENT
DTSTART;TZID=UTC:20171015T140000
DTEND;TZID=UTC:20171015T180000
DTSTAMP:20260425T003922
CREATED:20170927T075512Z
LAST-MODIFIED:20170927T082902Z
UID:920-1508076000-1508090400@librarylive.co.uk
SUMMARY:Elif Shafak & Nadeem Aslam
DESCRIPTION:Two gifted\, cosmopolitan novelists come together for an evening of boundary-crossing fiction\, from Asia to Britain. One of the most widely read writers in her native Turkey\, Elif Shafak’s nine acclaimed novels have been translated into 40 languages and include The Architect’s Apprentice\, Honour\, and The Bastard of Istanbul. She will read and discuss her new novel\, Three Daughters of Eve\, a sweeping tale of faith\, friendship and betrayal set in Istanbul and Oxford\, that the Financial Times called ‘an intelligent\, fierce and beguiling read’. Nadeem Aslam is the author of award-winning novels including Season of the Rainbirds\, Maps for Lost Lovers and The Blind Man’s Garden. His new book\, The Golden Legend\, is the brave and searingly beautiful story of a Pakistan community consumed by religious intolerance\, and a new love searching for a place to blossom in the wreckage of violence. The Guardian called it ‘exhilarating … an exquisite\, painful book.’ This event is presented in partnership with Karachi Literature Festival. \nThis event will be BSL interpreted \nPart of Manchester Literature Festival 2017 \nBook on 0843 208 0500 or
URL:https://librarylive.co.uk/event/elif-shafak-nadeem-aslam/
LOCATION:Performance Space
CATEGORIES:Writing
ATTACH;FMTTYPE=image/jpeg:https://librarylive.co.uk/wp-content/uploads/2017/09/ElifShafak_photoZeynelAbidin-2014.jpg
END:VEVENT
BEGIN:VEVENT
DTSTART;TZID=UTC:20171015T163000
DTEND;TZID=UTC:20171015T180000
DTSTAMP:20260425T003922
CREATED:20170927T113422Z
LAST-MODIFIED:20170927T113422Z
UID:968-1508085000-1508090400@librarylive.co.uk
SUMMARY:The Things I Would Tell You
DESCRIPTION:The Things I Would Tell You is an anthology that features 22 British Muslim Women Writers whose stories and poems transcend time\, place and stereotypes to blow away the narrow image of the ‘Muslim woman’. Nikesh Shukla describes it as an ‘exquisite collection full of energy\, experimentation\, honesty\, beauty\, fury\, heartbreak and laughs. Defiantly multi-cultural.’ \nJoin us for this special event featuring live performances from four of the contributors. Sabrina Mahfouz is a British Egyptian playwright\, poet and screenwriter whose play Chef won the 2014 Fringe First Award. Her poetry has been produced for TV\, radio and film and published in the collection How You Might Know Me. Nafeesa Hamid is a spoken word artist\, performer and playwright based in Birmingham. Hibaq Osman is a past winner of the Roundhouse Poetry Slam; her debut collection is A Silence You Can Carry. Asma Elbadawi is a Sudanese-born spoken word artist who was a finalist for Words First\, the BBC Radio 1Xtra / Roundhouse poetry competition. \nThis event is part of Manchester Literature Festival 2017 \nBook on 0843 208 0500 or
URL:https://librarylive.co.uk/event/the-things-i-would-tell-you/
LOCATION:Performance Space
CATEGORIES:Writing
ATTACH;FMTTYPE=image/jpeg:https://librarylive.co.uk/wp-content/uploads/2017/09/Asma-Elbadawi-The-Things-I-Would-Tell-You.jpg
END:VEVENT
BEGIN:VEVENT
DTSTART;TZID=UTC:20171016T130000
DTEND;TZID=UTC:20171016T150000
DTSTAMP:20260425T003922
CREATED:20170927T114145Z
LAST-MODIFIED:20170927T114145Z
UID:973-1508158800-1508166000@librarylive.co.uk
SUMMARY:Arundhathi Subramaniam
DESCRIPTION:Arundhathi Subramaniam attended the first Manchester Literature Festival in 2006 and we are thrilled to welcome her back to the city to share her sensual and soulful poetry exploring the contradictory nature of living in a Third World megalopolis. She has published two books of poetry in Britain with Bloodaxe\, Where I Live: New & Selected Poems and When God Is a Traveller\, shortlisted for the T.S. Eliot Prize\, and is featured in the DVD anthology In Person: World Poets. \nShe has also written books on spirituality and culture\, including The Book of Buddha and Sadhguru: More Than a Life. Winner of the inaugural Khushwant Singh Memorial Prize for Poetry in 2015\, the Raza Award for Poetry\, and the International Piero Bigongiari Prize\, she mostly lives in Mumbai (a city she is perennially on the verge of leaving). \nThis event is part of Manchester Literature Festival 2017 \nTickets are free but booking is advised (donations welcome on the door) \nBook on 0843 208 0500 or
URL:https://librarylive.co.uk/event/arundhathi-subramaniam/
LOCATION:Performance Space
CATEGORIES:Writing
ATTACH;FMTTYPE=image/jpeg:https://librarylive.co.uk/wp-content/uploads/2017/09/Subramaniam-Tineke-de-Lange.jpg
END:VEVENT
BEGIN:VEVENT
DTSTART;TZID=UTC:20171016T183000
DTEND;TZID=UTC:20171016T200000
DTSTAMP:20260425T003922
CREATED:20170927T080544Z
LAST-MODIFIED:20170927T083034Z
UID:928-1508178600-1508184000@librarylive.co.uk
SUMMARY:Refugee Tales: Volume II
DESCRIPTION:By sharing our stories\, we have the power to transform the world. Amid a global migration crisis\, the Refugee Tales project was conceived as a way of giving voice to people who have been held in indefinite immigration detention. Offered as a modern reworking of The Canterbury Tales\, the project’s second book tells the stories of real-life refugees whose voyage to the UK has not been a journey of spiritual salvation\, rather one of sheer\, physical survival. Written by leading writers in collaboration with refugees\, former immigration detainees\, and those who work with them\, it offers a compelling and truthful account of what it means to seek asylum in the UK. \nJoin us for readings from three contributors: Kamila Shamsie is the author of several acclaimed novels including Broken Verses and Burnt Shadows. Caroline Bergvall is an artist\, writer and performer whose work includes the large-scale project DRIFT. Marina Warner is a multi-award winning scholar\, critic and author whose books include Once Upon a Time and Stranger Magic: Charmed States & The Arabian Nights. Presented in partnership with Comma Press and Gatwick Detainees Welfare Group. \nChaired by Comma editor Ra Page. \nThis event is part of Manchester Literature Festival 2017 \nBook on 0843 208 0500 \n 
URL:https://librarylive.co.uk/event/refugee-tales-volume-ii/
LOCATION:Performance Space
CATEGORIES:Writing
ATTACH;FMTTYPE=image/jpeg:https://librarylive.co.uk/wp-content/uploads/2017/09/Kamila_Shamsie_c._Zain_Mustafa-Refugee-Tales.jpg
END:VEVENT
BEGIN:VEVENT
DTSTART;TZID=UTC:20171017T123000
DTEND;TZID=UTC:20171017T143000
DTSTAMP:20260425T003922
CREATED:20171003T084004Z
LAST-MODIFIED:20171003T085201Z
UID:976-1508243400-1508250600@librarylive.co.uk
SUMMARY:The Writing Squad
DESCRIPTION:THIS EVENT IS FULLY BOOKED \nIs reading for six minutes as good for you as five a day or a brisk walk? We think so\, especially if it is about you\, about where you live. Come and hear six minute ensembles written and performed for Read Manchester by the brilliant children from Manchester schools (Levenshulme High School for Girls\, Manchester Enterprise Academy\, Parrs Wood High School\, St Paul’s Catholic High School and Wright Robinson College)\, led by writers who limbered up in the Writing Squad. Manchester Literature Festival works with the Writing Squad to support emerging young writers from the North West region to develop their craft. This event is part of the Read Manchester campaign. \nThis event is part of Manchester Literature Festival 2017 \nSuitable for 14+ years \nTickets are free but booking is advised (donations welcome on the door) \nBook on 0843 208 0500 or
URL:https://librarylive.co.uk/event/the-writing-squad/
LOCATION:Performance Space
CATEGORIES:Writing
ATTACH;FMTTYPE=image/jpeg:https://librarylive.co.uk/wp-content/uploads/2017/10/The-Writing-Squad-NEW-Resized.jpg
END:VEVENT
BEGIN:VEVENT
DTSTART;TZID=UTC:20171018T190000
DTEND;TZID=UTC:20171018T210000
DTSTAMP:20260425T003922
CREATED:20171003T120246Z
LAST-MODIFIED:20171004T081919Z
UID:988-1508353200-1508360400@librarylive.co.uk
SUMMARY:Howard Jacobson
DESCRIPTION:Join us for an evening with award-winning Mancunian writer and critic Howard Jacobson\, in conversation with MLF Patron and host Rachel Cooke about the art of satire and writing as resistance. Written ‘in a fury of disbelief’ following the election of U.S. President Donald Trump\, Howard’s latest novel\, Pussy\, is a fierce and funny take on POTUS\, power\, and misogyny in the form of a comic fairytale. \nHoward is the author of 14 novels including The Mighty Walzer (winner of the Bollinger Everyman Wodehouse Award)\, The Finkler Question (winner of The Man Booker Prize) and\, most recently\, J. The Irish Independent called Pussy ‘a seething little nugget of a book.’ \nThis event is part of Manchester Literature Festival 2017 \nAge Suitability 14+ \nBook on 0843 208 0500 or
URL:https://librarylive.co.uk/event/howard-jacobson/
LOCATION:Performance Space
CATEGORIES:Writing
ATTACH;FMTTYPE=image/jpeg:https://librarylive.co.uk/wp-content/uploads/2017/10/Howard-Jacobson-cropped.jpg
END:VEVENT
BEGIN:VEVENT
DTSTART;TZID=UTC:20171019T190000
DTEND;TZID=UTC:20171019T210000
DTSTAMP:20260425T003922
CREATED:20171004T111007Z
LAST-MODIFIED:20171004T111007Z
UID:997-1508439600-1508446800@librarylive.co.uk
SUMMARY:Hollie McNish & Jackie Hagan
DESCRIPTION:THIS EVENT IS NOW FULLY BOOKED \nJoin two captivating artists for an unforgettable evening of performance poetry. The winner of The Poetry Society’s 2017 Ted Hughes Award for New Work\, Hollie returns to MLF to read from her wise\, sometimes rude and piercingly candid new collection\, Plum. In her debut Nobody Told Me\, Hollie’s plainspoken writing about the joy and confusion of new motherhood\, and the mixed messages society sends women struck a powerful chord with readers and audiences across the UK. Her new collection addresses growing up\, sex and the body; stitching together writing from her younger selves with new work to create a moving and beautiful picture. \nShe will be joined by poet\, comedian and playwright Jackie Hagan. Jackie’s work has been published by Flapjack Press\, she is a recent recipient of a Jerwood Compton Poetry Fellowship\, and has been the focus of a Channel 4 documentary in which she downs cut price lager from her glittery false leg. Introduced by MLF’s Kate Feld. \nThis event is part of Manchester Literature Festival 2017 \nBook on 0843 208 0500 or
URL:https://librarylive.co.uk/event/hollie-mcnish-jackie-hagan/
LOCATION:Performance Space
CATEGORIES:Writing
ATTACH;FMTTYPE=image/jpeg:https://librarylive.co.uk/wp-content/uploads/2017/10/Hollie-McNish.jpg
END:VEVENT
BEGIN:VEVENT
DTSTART;TZID=UTC:20171020T183000
DTEND;TZID=UTC:20171020T200000
DTSTAMP:20260425T003922
CREATED:20171004T082405Z
LAST-MODIFIED:20171004T082405Z
UID:999-1508524200-1508529600@librarylive.co.uk
SUMMARY:Michael Symmons Roberts
DESCRIPTION:In his eagerly anticipated seventh collection\, Michael Symmons Roberts shows us a place at once familiar and strange. Mancunia is located where real crosses unreal\, a Manchester of the mind: occupied\, abandoned\, liberated and rebuilt. In these finely wrought\, capacious poems\, we encounter wayward mariners in bars\, meet invisible bureaucrats\, and hear history shouting through the wall. \nMichael has published six collections of poetry and been awarded the Forward Prize\, the Costa Poetry Award and the Whitbread Poetry Prize. He is also an acclaimed librettist\, broadcaster and dramatist\, has published two novels\, and is a Fellow of the Royal Society of Literature. This event is in partnership with Manchester Metropolitan University\, where Michael is Professor of Poetry\, and will include contributions from MMU‘s Schools of Art and Theatre. Introduced by Martin Kratz. \nThis event is part of Manchester Literature Festival 2017 \nBook on 0843 208 0500 or
URL:https://librarylive.co.uk/event/michael-symmons-roberts/
LOCATION:Performance Space
CATEGORIES:Writing
ATTACH;FMTTYPE=image/jpeg:https://librarylive.co.uk/wp-content/uploads/2017/10/Michael-Symmons-Roberts-1L-c-Urszula-Soltys.jpg
END:VEVENT
END:VCALENDAR