BEGIN:VCALENDAR
VERSION:2.0
PRODID:-//Library Live - ECPv6.15.13.1//NONSGML v1.0//EN
CALSCALE:GREGORIAN
METHOD:PUBLISH
X-ORIGINAL-URL:https://librarylive.co.uk
X-WR-CALDESC:Events for Library Live
REFRESH-INTERVAL;VALUE=DURATION:PT1H
X-Robots-Tag:noindex
X-PUBLISHED-TTL:PT1H
BEGIN:VTIMEZONE
TZID:UTC
BEGIN:STANDARD
TZOFFSETFROM:+0000
TZOFFSETTO:+0000
TZNAME:UTC
DTSTART:20220101T000000
END:STANDARD
END:VTIMEZONE
BEGIN:VEVENT
DTSTART;TZID=UTC:20230607T170000
DTEND;TZID=UTC:20230607T190000
DTSTAMP:20260421T094439
CREATED:20230518T140506Z
LAST-MODIFIED:20230518T140506Z
UID:7194-1686157200-1686164400@librarylive.co.uk
SUMMARY:Writing Workshop with Anjum Malik
DESCRIPTION:Join Manchester UNESCO City of Literature Multilingual City Poet Anjum Malik for a celebration of South Asian culture. Combining rich conversation\, classical Indian dance and poetry (plus samosas)\, the award-winning Anjum Malik shines a spotlight on the vibrant legacy of South Asian communities in Manchester and beyond in an interactive workshop for participants of all ages and backgrounds. \nFree – booking required – please also consider making a donation to support our Library Live programme at one of our cash or contactless donation devices in the venue or online
URL:https://librarylive.co.uk/event/writing-workshop-with-anjum-malik/
LOCATION:Performance Space
CATEGORIES:Workshops
ATTACH;FMTTYPE=image/jpeg:https://librarylive.co.uk/wp-content/uploads/2023/05/thumbnail_Anjum-Malik.jpg
END:VEVENT
END:VCALENDAR