BEGIN:VCALENDAR
VERSION:2.0
PRODID:-//Library Live - ECPv6.15.13.1//NONSGML v1.0//EN
CALSCALE:GREGORIAN
METHOD:PUBLISH
X-ORIGINAL-URL:https://librarylive.co.uk
X-WR-CALDESC:Events for Library Live
REFRESH-INTERVAL;VALUE=DURATION:PT1H
X-Robots-Tag:noindex
X-PUBLISHED-TTL:PT1H
BEGIN:VTIMEZONE
TZID:UTC
BEGIN:STANDARD
TZOFFSETFROM:+0000
TZOFFSETTO:+0000
TZNAME:UTC
DTSTART:20180101T000000
END:STANDARD
END:VTIMEZONE
BEGIN:VEVENT
DTSTART;TZID=UTC:20191031T130000
DTEND;TZID=UTC:20191031T160000
DTSTAMP:20260424T075928
CREATED:20190924T131704Z
LAST-MODIFIED:20190924T131928Z
UID:4006-1572526800-1572537600@librarylive.co.uk
SUMMARY:Brilliant Balance Workshop
DESCRIPTION:Come and balance objects\, yourself and other people with the Circus House group. Skills covered include spinning plates\, tight-wire and acro-balance. 2 sessions at 1.30-2.30 and 3-4 pm\, plus free craft activities. \nSuitable for 4-12 year olds \nFree drop in but places are limited
URL:https://librarylive.co.uk/event/brilliant-balance-workshop/
LOCATION:Performance Space
CATEGORIES:Workshops
ATTACH;FMTTYPE=image/jpeg:https://librarylive.co.uk/wp-content/uploads/2019/09/Balancing-1.jpg
END:VEVENT
END:VCALENDAR