BEGIN:VCALENDAR
VERSION:2.0
PRODID:-//Library Live - ECPv6.15.13.1//NONSGML v1.0//EN
CALSCALE:GREGORIAN
METHOD:PUBLISH
X-WR-CALNAME:Library Live
X-ORIGINAL-URL:https://librarylive.co.uk
X-WR-CALDESC:Events for Library Live
REFRESH-INTERVAL;VALUE=DURATION:PT1H
X-Robots-Tag:noindex
X-PUBLISHED-TTL:PT1H
BEGIN:VTIMEZONE
TZID:UTC
BEGIN:STANDARD
TZOFFSETFROM:+0000
TZOFFSETTO:+0000
TZNAME:UTC
DTSTART:20180101T000000
END:STANDARD
END:VTIMEZONE
BEGIN:VEVENT
DTSTART;TZID=UTC:20190727T120000
DTEND;TZID=UTC:20190727T163000
DTSTAMP:20260424T121237
CREATED:20190603T114558Z
LAST-MODIFIED:20190603T114649Z
UID:3545-1564228800-1564245000@librarylive.co.uk
SUMMARY:Peterloo Liberty Cap Workshop
DESCRIPTION:Help revive the Peterloo liberty cap as a symbol of freedom and democracy by making your own with professional artists Paul Fitzgerald and Eva Schlunke. \nThese will then become part of a sea of raised liberty caps for a mass participation art event during the August 2019 Peterloo Bicentenary commemorations in Manchester.
URL:https://librarylive.co.uk/event/peterloo-liberty-cap-workshop/
LOCATION:Performance Space
CATEGORIES:Workshops
ATTACH;FMTTYPE=image/jpeg:https://librarylive.co.uk/wp-content/uploads/2019/06/Liberty-Cap.jpg
END:VEVENT
END:VCALENDAR