BEGIN:VCALENDAR
VERSION:2.0
PRODID:-//Library Live - ECPv6.15.13.1//NONSGML v1.0//EN
CALSCALE:GREGORIAN
METHOD:PUBLISH
X-ORIGINAL-URL:https://librarylive.co.uk
X-WR-CALDESC:Events for Library Live
REFRESH-INTERVAL;VALUE=DURATION:PT1H
X-Robots-Tag:noindex
X-PUBLISHED-TTL:PT1H
BEGIN:VTIMEZONE
TZID:UTC
BEGIN:STANDARD
TZOFFSETFROM:+0000
TZOFFSETTO:+0000
TZNAME:UTC
DTSTART:20220101T000000
END:STANDARD
END:VTIMEZONE
BEGIN:VEVENT
DTSTART;TZID=UTC:20230513T130000
DTEND;TZID=UTC:20230513T150000
DTSTAMP:20260421T094316
CREATED:20230421T085922Z
LAST-MODIFIED:20230421T090331Z
UID:7145-1683982800-1683990000@librarylive.co.uk
SUMMARY:Silk Painting Workshop with Aysha Yilmaz
DESCRIPTION:MAFCFEST presents a creative session with Aysha on silk painting! \nIn this workshop\, motifs and designs from The Silk Road ( Iran\, Uzbekistan\, Turkey etc) will be used to produce a Silk Painting. \nAysha will demonstrate how to apply the design to the Silk fabric from a drawing\, followed by techniques of filling in with Silk paints. \nA briefing will be given by Aysha on how Silk is produced and its origins. She will also touch upon the origins of the motifs used. \nThe workshop will be in the Performance Space in Central Library.
URL:https://librarylive.co.uk/event/silk-painting-workshop-with-aysha-yilmaz/
CATEGORIES:Workshops
ATTACH;FMTTYPE=image/jpeg:https://librarylive.co.uk/wp-content/uploads/2023/04/silk-painting.jpeg
END:VEVENT
BEGIN:VEVENT
DTSTART;TZID=UTC:20230516T110000
DTEND;TZID=UTC:20230516T130000
DTSTAMP:20260421T094316
CREATED:20230511T094137Z
LAST-MODIFIED:20230511T111228Z
UID:7177-1684234800-1684242000@librarylive.co.uk
SUMMARY:Local Community History Month-Archives+ Workshop
DESCRIPTION:Learn how to use local maps\, street directories\, censuses and various other archives to identify a local person – Free – please drop in  \nOther Local Community History Month events include: \n1921 Census talk by Leslie Turner (free) – Friday 26 May\, 11am – Book your place here \nHandling session – Rates and Electoral Registers – Friday 26 May\, 12 noon – Free – drop in \n1939 Register Talk by Manchester and Lancashire Family History Society – Saturday 27 May\, 10.30am – Book your place here
URL:https://librarylive.co.uk/event/local-community-history-month-archives-workshop/
LOCATION:Ground Floor
CATEGORIES:Workshops
ATTACH;FMTTYPE=image/jpeg:https://librarylive.co.uk/wp-content/uploads/2023/05/Fam-hist.jpg
END:VEVENT
END:VCALENDAR