BEGIN:VCALENDAR
VERSION:2.0
PRODID:-//Library Live - ECPv6.15.13.1//NONSGML v1.0//EN
CALSCALE:GREGORIAN
METHOD:PUBLISH
X-ORIGINAL-URL:https://librarylive.co.uk
X-WR-CALDESC:Events for Library Live
REFRESH-INTERVAL;VALUE=DURATION:PT1H
X-Robots-Tag:noindex
X-PUBLISHED-TTL:PT1H
BEGIN:VTIMEZONE
TZID:UTC
BEGIN:STANDARD
TZOFFSETFROM:+0000
TZOFFSETTO:+0000
TZNAME:UTC
DTSTART:20190101T000000
END:STANDARD
END:VTIMEZONE
BEGIN:VEVENT
DTSTART;TZID=UTC:20200219T140000
DTEND;TZID=UTC:20200219T160000
DTSTAMP:20260424T003645
CREATED:20200212T092311Z
LAST-MODIFIED:20200212T092311Z
UID:4597-1582120800-1582128000@librarylive.co.uk
SUMMARY:Museum of Me Collage Workshop
DESCRIPTION:This workshop will be of interest to people who would like to find a new and creative way to explore their family history and want to learn more about how encounters with objects can stimulate strong emotions and feelings. Artist Helena Tomlin has been working with the Centre for Jewish Studies at The University of Manchester to create a piece of work in response to two objects she has selected from the collection of objects at the John Rylands Library: an Esther scroll and a marriage contract\, which form part of The 50 Jewish Objects. Helena aims to share in this workshop her methods of working which include text\, collage and stitch to help participants create a small box artwork on the theme of The Museum of Me. \nLimited numbers – book below
URL:https://librarylive.co.uk/event/museum-of-me-collage-workshop/
LOCATION:Activity Room (Lower Ground Floor)
CATEGORIES:Workshops
ATTACH;FMTTYPE=image/jpeg:https://librarylive.co.uk/wp-content/uploads/2020/02/Museum-of-Me.jpg
END:VEVENT
END:VCALENDAR