BEGIN:VCALENDAR
VERSION:2.0
PRODID:-//Library Live - ECPv6.15.13.1//NONSGML v1.0//EN
CALSCALE:GREGORIAN
METHOD:PUBLISH
X-ORIGINAL-URL:https://librarylive.co.uk
X-WR-CALDESC:Events for Library Live
REFRESH-INTERVAL;VALUE=DURATION:PT1H
X-Robots-Tag:noindex
X-PUBLISHED-TTL:PT1H
BEGIN:VTIMEZONE
TZID:UTC
BEGIN:STANDARD
TZOFFSETFROM:+0000
TZOFFSETTO:+0000
TZNAME:UTC
DTSTART:20170101T000000
END:STANDARD
END:VTIMEZONE
BEGIN:VEVENT
DTSTART;TZID=UTC:20181121T150000
DTEND;TZID=UTC:20181121T170000
DTSTAMP:20260424T230249
CREATED:20180904T105347Z
LAST-MODIFIED:20180904T105347Z
UID:2273-1542812400-1542819600@librarylive.co.uk
SUMMARY:Finding the Poetry of the Cotton Famine: Workshop
DESCRIPTION:THIS WORKSHOP IS NOW FULLY BOOKED \nThis fascinating interactive workshop\, led by researchers on the AHRC-funded Poetry of the Lancashire Cotton Famine project\, will guide participants through the newly-established database of the poetry\, and provide context to this significant part of the region’s history. Cotton Famine poetry represents several hundred individual texts\, and it was written largely by ordinary Mancunians and Lancastrians\, and published in local newspapers. These poems reacted to the extreme poverty caused by the mass-closing of cotton mills in the region when the Union blockaded Confederacy cotton exports during the American Civil War (1861-65). The poetry\, in standard English and dialect\, is by turns moving\, angry\, and funny\, and ranges through themes such as slavery\, politics\, war\, homelessness\, poverty\, and charity. Come and find out what ordinary people thought about these global events\, and why there is a statue of Abraham Lincoln in the centre of Manchester!
URL:https://librarylive.co.uk/event/finding-poetry-cotton-famine-workshop/
LOCATION:Performance Space
CATEGORIES:Workshops
ATTACH;FMTTYPE=image/jpeg:https://librarylive.co.uk/wp-content/uploads/2018/09/Finding-the-Poetry-of-the-Cotton-Famine-Workshop.jpg
END:VEVENT
END:VCALENDAR