BEGIN:VCALENDAR
VERSION:2.0
PRODID:-//Library Live - ECPv6.15.13.1//NONSGML v1.0//EN
CALSCALE:GREGORIAN
METHOD:PUBLISH
X-ORIGINAL-URL:https://librarylive.co.uk
X-WR-CALDESC:Events for Library Live
REFRESH-INTERVAL;VALUE=DURATION:PT1H
X-Robots-Tag:noindex
X-PUBLISHED-TTL:PT1H
BEGIN:VTIMEZONE
TZID:UTC
BEGIN:STANDARD
TZOFFSETFROM:+0000
TZOFFSETTO:+0000
TZNAME:UTC
DTSTART:20160101T000000
END:STANDARD
END:VTIMEZONE
BEGIN:VEVENT
DTSTART;TZID=UTC:20171202T140000
DTEND;TZID=UTC:20171202T150000
DTSTAMP:20260425T014940
CREATED:20170815T104144Z
LAST-MODIFIED:20170926T092006Z
UID:724-1512223200-1512226800@librarylive.co.uk
SUMMARY:Lip Service presents Thrills and Quills!
DESCRIPTION:LipService theatre take a comic look at Jane Austen’s letters\, examine the vagaries of the Georgian postal system and wonder what witty words Jane could have conjured up with a Twitter account.We examine the world of communication from quill pen to SnapChat. \nWith extracts from Jane Austen’s novels\, letters to family members and wickedly funny observations on her neighbours\, we look at the vivid account Jane conjures of everyday life. \n“LipService\, Britain’s favourite literary lunatics” The Guardian
URL:https://librarylive.co.uk/event/lip-service-presents-thrills-quills/
LOCATION:Performance Space
CATEGORIES:Theatre
ATTACH;FMTTYPE=image/jpeg:https://librarylive.co.uk/wp-content/uploads/2017/08/At-jane-Austens-house-e1502276855353.jpg
END:VEVENT
END:VCALENDAR