BEGIN:VCALENDAR
VERSION:2.0
PRODID:-//Library Live - ECPv6.15.13.1//NONSGML v1.0//EN
CALSCALE:GREGORIAN
METHOD:PUBLISH
X-WR-CALNAME:Library Live
X-ORIGINAL-URL:https://librarylive.co.uk
X-WR-CALDESC:Events for Library Live
REFRESH-INTERVAL;VALUE=DURATION:PT1H
X-Robots-Tag:noindex
X-PUBLISHED-TTL:PT1H
BEGIN:VTIMEZONE
TZID:UTC
BEGIN:STANDARD
TZOFFSETFROM:+0000
TZOFFSETTO:+0000
TZNAME:UTC
DTSTART:20210101T000000
END:STANDARD
END:VTIMEZONE
BEGIN:VEVENT
DTSTART;TZID=UTC:20221023T140000
DTEND;TZID=UTC:20221023T150000
DTSTAMP:20260421T124315
CREATED:20220902T110414Z
LAST-MODIFIED:20220914T113225Z
UID:6435-1666533600-1666537200@librarylive.co.uk
SUMMARY:Natalie Haynes
DESCRIPTION:Stone Blind\, Natalie Haynes’ latest feminist mythological retelling\, is the story of how a young woman became a monster. And how she was never really a monster at all. It’s the story of Medusa\, the mortal raised by her Gorgon sisters\, mistreated by Poseidon\, and hunted by Perseus. It’s a version that sheds light on who’s really angry\, who’s privileged\, who’s wronged\, who’s content\, and who’s an arrogant brat; turning the story you think you know on its snake covered head. \nNatalie is the author of three previous novels\, The Amber Fury\, shortlisted for the McIlvanney Prize; The Children of Jocasta and A Thousand Ships\, and non-fiction books The Ancient Guide to Modern Life and Pandora’s Jar. She is the writer and performer of the BBC Radio 4 show\, Natalie Haynes Stands Up for the Classics. In 2015\, she was awarded the Classical Association Prize for her work in bringing Classics to a wider audience. Hosted by Naomi Frisby\, writer and co-host of Late To It podcast. \nBook on 0343 208 0500 or ‘book now’ link below
URL:https://librarylive.co.uk/event/natalie-haynes/
LOCATION:Performance Space
CATEGORIES:Talks
ATTACH;FMTTYPE=image/jpeg:https://librarylive.co.uk/wp-content/uploads/2022/09/MLF_Natalie-Haynes-resized.jpg
END:VEVENT
BEGIN:VEVENT
DTSTART;TZID=UTC:20221023T160000
DTEND;TZID=UTC:20221023T170000
DTSTAMP:20260421T124315
CREATED:20220902T111200Z
LAST-MODIFIED:20220914T113847Z
UID:6438-1666540800-1666544400@librarylive.co.uk
SUMMARY:George Saunders in Conversation
DESCRIPTION:‘The best short story writer in English – not “one of”\, not “arguably”\, but the best’ – Time. In his latest short story collection\, Liberation Day\, George Saunders considers what it means to be human and a member of communities whose actions impact each other. Through inventive scenarios including an underground amusement park and a household with reprogrammed humans\, George comments on current society\, questioning whether this is the right way to live. Join us for what promises to be an unmissable conversation with a master of short stories on his first visit to the UK in five years\, and his only event outside of London. George is the author of ten books including the Booker Prize winning Lincoln in the Bardo\, Tenth of December and his recent exploration of Russian short stories\, A Swim in a Pond in the Rain. Hosted by writer Kate Feld. \nBook on 0343 208 0500 or ‘book now’ link below
URL:https://librarylive.co.uk/event/george-saunders-in-conversation/
LOCATION:Performance Space
CATEGORIES:Talks
ATTACH;FMTTYPE=image/jpeg:https://librarylive.co.uk/wp-content/uploads/2022/09/MLF_Slide_George-Saunders-resized.jpg
END:VEVENT
END:VCALENDAR