BEGIN:VCALENDAR
VERSION:2.0
PRODID:-//Library Live - ECPv6.15.13.1//NONSGML v1.0//EN
CALSCALE:GREGORIAN
METHOD:PUBLISH
X-ORIGINAL-URL:https://librarylive.co.uk
X-WR-CALDESC:Events for Library Live
REFRESH-INTERVAL;VALUE=DURATION:PT1H
X-Robots-Tag:noindex
X-PUBLISHED-TTL:PT1H
BEGIN:VTIMEZONE
TZID:UTC
BEGIN:STANDARD
TZOFFSETFROM:+0000
TZOFFSETTO:+0000
TZNAME:UTC
DTSTART:20210101T000000
END:STANDARD
END:VTIMEZONE
BEGIN:VEVENT
DTSTART;TZID=UTC:20221018T190000
DTEND;TZID=UTC:20221018T203000
DTSTAMP:20260421T124528
CREATED:20220902T100941Z
LAST-MODIFIED:20220914T111404Z
UID:6420-1666119600-1666125000@librarylive.co.uk
SUMMARY:After Sylvia
DESCRIPTION:With Moniza Alvi\, Romalyn Ante\, Rebecca Goss\, Ian Humphreys & Carola Luther\nOne of the most dynamic and admired American writers of the 20th Century\, Sylvia Plath’s legacy as a fiercely intelligent\, confessional feminist poet and novelist continues to inspire generation after generation. After Sylvia: Poems & Essays in Celebration of Sylvia Plath marks the 90th anniversary of Sylvia Plath’s birth. At this special event\, poets Moniza Alvi\, Romalyn Ante\, Rebecca Goss\, Ian Humphreys & Carola Luther will perform new work inspired by and responding to Sylvia Plath’s work and legacy\, drawing on the themes of Rebirth\, Womanhood\, Magic\, Mothers & Fathers and Nature. \nMoniza Alvi has been shortlisted for the TS Eliot Prize three times with her collections The Country at My Shoulder\, Europa and At the Time of Partition. Romalyn Ante is the author of Antiemetic for Homesickness which was shortlisted for the Jhalak Prize and longlisted for the Dylan Thomas Prize. Rebecca Goss is the author of four poetry collections. Her Birth was shortlisted for the 2013 Forward Prize for Best Collection. She is winner of the Sylvia Plath Prize 2022.  Carola Luther is the author of three poetry collections. Her most recent collection On the Way to Jerusalem Farm is shortlisted for the Derek Walcott Prize for Poetry. Ian Humphreys is a writer and editor. His debut collection Zebra was nominated for the Portico Prize and his work has been highly commended in the Forward Prizes for Poetry. He is the producer and co-editor of After Sylvia. \nPresented in partnership with Manchester Poetry Library. \nThis event will be BSL interpreted \nBook on 0343 208 0500 or ‘book now’ link below
URL:https://librarylive.co.uk/event/after-sylvia/
LOCATION:Performance Space
CATEGORIES:Talks
ATTACH;FMTTYPE=image/jpeg:https://librarylive.co.uk/wp-content/uploads/2022/09/MLF_After-Sylvia-PHOTOS-collage.resized.jpg
END:VEVENT
END:VCALENDAR