BEGIN:VCALENDAR
VERSION:2.0
PRODID:-//Library Live - ECPv6.15.13.1//NONSGML v1.0//EN
CALSCALE:GREGORIAN
METHOD:PUBLISH
X-ORIGINAL-URL:https://librarylive.co.uk
X-WR-CALDESC:Events for Library Live
REFRESH-INTERVAL;VALUE=DURATION:PT1H
X-Robots-Tag:noindex
X-PUBLISHED-TTL:PT1H
BEGIN:VTIMEZONE
TZID:UTC
BEGIN:STANDARD
TZOFFSETFROM:+0000
TZOFFSETTO:+0000
TZNAME:UTC
DTSTART:20210101T000000
END:STANDARD
END:VTIMEZONE
BEGIN:VEVENT
DTSTART;TZID=UTC:20221017T190000
DTEND;TZID=UTC:20221017T203000
DTSTAMP:20260421T124530
CREATED:20220902T095026Z
LAST-MODIFIED:20220914T111103Z
UID:6417-1666033200-1666038600@librarylive.co.uk
SUMMARY:Nick Hornby: Dickens & Prince
DESCRIPTION:At first glance\, it seems unlikely that the white English Victorian writer Charles Dickens and the Black American musician Prince Rogers Nelson have anything in common. But as two of Nick Hornby’s ‘artists who have shaped me\, inspired me\, made me think about my own work’ he set out to see whether there was anything he could learn from these two great artists and their prolific bodies of work. What did they do with their phenomenal talent? Did it damage them in some way\, personally\, professionally? Is there any way of knowing where it came from? Did it kill them? \nWith wit\, curiosity and deep admiration Nick Hornby traces their extraordinary lives – from their difficult beginnings to the women they fell for to their limitless energy for work\, to their money and the movies – and brilliantly illuminates their very particular kind of genius. Come along and find out more. Nick is the bestselling author of eight novels including Just Like You\, High Fidelity and About a Boy and several works of nonfiction including Fever Pitch. He has also written several award-winning screenplays including Brooklyn\, Wild and State of the Union. Nick will be in conversation with broadcaster and Observer critic Alex Clark. This event is sponsored by Weightmans. \nBook on 0343 208 0500 or ‘book now’ link below
URL:https://librarylive.co.uk/event/nick-hornby-dickens-prince/
LOCATION:Performance Space
CATEGORIES:Talks
ATTACH;FMTTYPE=image/jpeg:https://librarylive.co.uk/wp-content/uploads/2022/09/MLF_Nick-Hornby-resized.jpg
END:VEVENT
END:VCALENDAR