BEGIN:VCALENDAR
VERSION:2.0
PRODID:-//Library Live - ECPv6.15.13.1//NONSGML v1.0//EN
CALSCALE:GREGORIAN
METHOD:PUBLISH
X-WR-CALNAME:Library Live
X-ORIGINAL-URL:https://librarylive.co.uk
X-WR-CALDESC:Events for Library Live
REFRESH-INTERVAL;VALUE=DURATION:PT1H
X-Robots-Tag:noindex
X-PUBLISHED-TTL:PT1H
BEGIN:VTIMEZONE
TZID:UTC
BEGIN:STANDARD
TZOFFSETFROM:+0000
TZOFFSETTO:+0000
TZNAME:UTC
DTSTART:20210101T000000
END:STANDARD
END:VTIMEZONE
BEGIN:VEVENT
DTSTART;TZID=UTC:20221011T190000
DTEND;TZID=UTC:20221011T203000
DTSTAMP:20260421T124323
CREATED:20220831T132715Z
LAST-MODIFIED:20220914T110735Z
UID:6406-1665514800-1665520200@librarylive.co.uk
SUMMARY:Monica Ali
DESCRIPTION:The bestselling and much-loved author of Brick Lane\, Monica Ali visits MLF to celebrate her brilliant new novel Love Marriage\, her first book in a decade. Yasmin’s engaged to fellow Junior Doctor Joe\, but when they bring the two families together – one love-matched\, long-married Bengali immigrants who thrive on home cooking and the other a single white middle-class feminist academic writing on porn who gets the caterers in for parties – cracks appear in everyone’s lives and stories that have long been told have to be rewritten with significant consequences. \nMonica Ali is the author of five novels which have been translated into 26 languages. Her debut\, Brick Lane\, was shortlisted for the Booker Prize and led to her being chosen as one of Granta’s 2003 Best of Young British Novelists. A television adaptation of Love Marriage is in development. \nTickets £12 / £10. Book on 0343 208 0500
URL:https://librarylive.co.uk/event/monica-ali/
LOCATION:Performance Space
CATEGORIES:Talks
ATTACH;FMTTYPE=image/jpeg:https://librarylive.co.uk/wp-content/uploads/2022/08/MLF_Monica-Ali-resized.jpg
END:VEVENT
END:VCALENDAR