BEGIN:VCALENDAR
VERSION:2.0
PRODID:-//Library Live - ECPv6.15.13.1//NONSGML v1.0//EN
CALSCALE:GREGORIAN
METHOD:PUBLISH
X-ORIGINAL-URL:https://librarylive.co.uk
X-WR-CALDESC:Events for Library Live
REFRESH-INTERVAL;VALUE=DURATION:PT1H
X-Robots-Tag:noindex
X-PUBLISHED-TTL:PT1H
BEGIN:VTIMEZONE
TZID:UTC
BEGIN:STANDARD
TZOFFSETFROM:+0000
TZOFFSETTO:+0000
TZNAME:UTC
DTSTART:20210101T000000
END:STANDARD
END:VTIMEZONE
BEGIN:VEVENT
DTSTART;TZID=UTC:20221010T190000
DTEND;TZID=UTC:20221010T203000
DTSTAMP:20260421T124528
CREATED:20220831T131300Z
LAST-MODIFIED:20220914T110628Z
UID:6403-1665428400-1665433800@librarylive.co.uk
SUMMARY:Damon Galgut in Conversation
DESCRIPTION:One family\, four decades\, four funerals\, one unfulfilled promise. Winner of the 2021 Booker Prize\, Damon Galgut joins us to discuss his masterpiece The Promise\, a gripping\, beautifully written family saga based around a farm in South Africa. Through the members of the Swart family\, Damon explores personal and political change as the family splinters and apartheid ends\, questioning whether reparations for Black South Africans can ever be sufficient. The Promise was a Book of the Year in The Guardian\, The Observer\, The Daily Telegraph\, The Sunday Times and the New Statesman. Author of nine novels and four plays\, Damon was previously twice shortlisted for the Booker Prize with The Good Doctor and In a Strange Room. Hosted by broadcaster and Observer critic Alex Clark and presented in partnership with the Centre for New Writing and Creative Manchester. \nThis event will be BSL interpreted \nTickets £12 / £10. Book on 0343 208 0500 or via ‘Book Now’ link below
URL:https://librarylive.co.uk/event/damon-galgut%e2%80%afin-conversation/
LOCATION:Performance Space
CATEGORIES:Talks
ATTACH;FMTTYPE=image/jpeg:https://librarylive.co.uk/wp-content/uploads/2022/08/MLF_Slide_Damon-Galgut-resized.jpg
END:VEVENT
END:VCALENDAR