BEGIN:VCALENDAR
VERSION:2.0
PRODID:-//Library Live - ECPv6.15.13.1//NONSGML v1.0//EN
CALSCALE:GREGORIAN
METHOD:PUBLISH
X-WR-CALNAME:Library Live
X-ORIGINAL-URL:https://librarylive.co.uk
X-WR-CALDESC:Events for Library Live
REFRESH-INTERVAL;VALUE=DURATION:PT1H
X-Robots-Tag:noindex
X-PUBLISHED-TTL:PT1H
BEGIN:VTIMEZONE
TZID:UTC
BEGIN:STANDARD
TZOFFSETFROM:+0000
TZOFFSETTO:+0000
TZNAME:UTC
DTSTART:20210101T000000
END:STANDARD
END:VTIMEZONE
BEGIN:VEVENT
DTSTART;TZID=UTC:20220616T183000
DTEND;TZID=UTC:20220616T193000
DTSTAMP:20260421T190212
CREATED:20220519T103930Z
LAST-MODIFIED:20220519T103930Z
UID:6087-1655404200-1655407800@librarylive.co.uk
SUMMARY:Inspired By Libraries with Lemn Sissay
DESCRIPTION:As part of the Festival of Libraries\, join poet Lemn Sissay OBE for an exciting talk for young people on how libraries have inspired him in his life. Lemn says: “A library is the loudest place on the high street\, because books are bursting with very loud ideas! Yet it is where you can go for peace and quiet; among all that is happening in our world\, peace and quiet has great value. Libraries change the world because people who use libraries change the world.” \nAges: young people / all ages welcome \nPay what you can – £2\, £6 or £10
URL:https://librarylive.co.uk/event/inspired-by-libraries-with-lemn-sissay/
LOCATION:Performance Space
CATEGORIES:Talks
ATTACH;FMTTYPE=image/jpeg:https://librarylive.co.uk/wp-content/uploads/2022/05/Lemn.jpg
END:VEVENT
END:VCALENDAR