BEGIN:VCALENDAR
VERSION:2.0
PRODID:-//Library Live - ECPv6.15.13.1//NONSGML v1.0//EN
CALSCALE:GREGORIAN
METHOD:PUBLISH
X-WR-CALNAME:Library Live
X-ORIGINAL-URL:https://librarylive.co.uk
X-WR-CALDESC:Events for Library Live
REFRESH-INTERVAL;VALUE=DURATION:PT1H
X-Robots-Tag:noindex
X-PUBLISHED-TTL:PT1H
BEGIN:VTIMEZONE
TZID:UTC
BEGIN:STANDARD
TZOFFSETFROM:+0000
TZOFFSETTO:+0000
TZNAME:UTC
DTSTART:20210101T000000
END:STANDARD
END:VTIMEZONE
BEGIN:VEVENT
DTSTART;TZID=UTC:20220610T133000
DTEND;TZID=UTC:20220610T143000
DTSTAMP:20260421T190212
CREATED:20220516T120904Z
LAST-MODIFIED:20220517T085933Z
UID:6026-1654867800-1654871400@librarylive.co.uk
SUMMARY:David Adetayo Olusoga OBE
DESCRIPTION:On Sunday 7 June 2020\, protestors marching to support the Black Lives Matter movement in Bristol tore down the statue of slave trader Edward Colston and threw it in the city’s harbour. This dramatic action thrust the city onto the global stage and put it at the forefront of an ongoing and bitter culture war. Broadcaster and historian David Olusoga will explore how the commemoration of individuals from our historical past remains a matter of continued and highly contested importance. \nFree – booking required
URL:https://librarylive.co.uk/event/david-adetayo-olusoga-obe/
LOCATION:Performance Space
CATEGORIES:Talks
ATTACH;FMTTYPE=image/jpeg:https://librarylive.co.uk/wp-content/uploads/2022/05/David-Olusoga.jpg
END:VEVENT
BEGIN:VEVENT
DTSTART;TZID=UTC:20220611T100000
DTEND;TZID=UTC:20220611T233000
DTSTAMP:20260421T190212
CREATED:20220517T093544Z
LAST-MODIFIED:20220517T093544Z
UID:6060-1654941600-1654990200@librarylive.co.uk
SUMMARY:Create Your Own Climate Cartoon
DESCRIPTION:A short\, illustrated behind the scenes talk by professional cartoonist Polyp\, revealing what goes into creating one of his climate cartoons\, followed by a hands on workshop session helping aspiring artists create their very own climate cartoon! \nFree – booking required
URL:https://librarylive.co.uk/event/create-your-own-climate-cartoon/
CATEGORIES:Talks
ATTACH;FMTTYPE=image/jpeg:https://librarylive.co.uk/wp-content/uploads/2022/05/Polar-Bear.jpg
END:VEVENT
END:VCALENDAR