BEGIN:VCALENDAR
VERSION:2.0
PRODID:-//Library Live - ECPv6.15.13.1//NONSGML v1.0//EN
CALSCALE:GREGORIAN
METHOD:PUBLISH
X-WR-CALNAME:Library Live
X-ORIGINAL-URL:https://librarylive.co.uk
X-WR-CALDESC:Events for Library Live
REFRESH-INTERVAL;VALUE=DURATION:PT1H
X-Robots-Tag:noindex
X-PUBLISHED-TTL:PT1H
BEGIN:VTIMEZONE
TZID:UTC
BEGIN:STANDARD
TZOFFSETFROM:+0000
TZOFFSETTO:+0000
TZNAME:UTC
DTSTART:20210101T000000
END:STANDARD
END:VTIMEZONE
BEGIN:VEVENT
DTSTART;TZID=UTC:20220518T160000
DTEND;TZID=UTC:20220518T173000
DTSTAMP:20260421T205440
CREATED:20220505T084705Z
LAST-MODIFIED:20220505T084705Z
UID:5968-1652889600-1652895000@librarylive.co.uk
SUMMARY:Devolved Vision: Granada TV and the Future of British TV
DESCRIPTION:Granada TV has a very significant place in British television history and still holds a powerful place in the cultural memory of northerners. Once described as the ‘greatest television company in the world’\, it was founded by Sidney Bernstein in 1954 and began broadcasting to the North in May 1956\, when independent television was born. Granada produced many path-breaking programmes\, including Coronation Street\, World In Action\, Brideshead Revisited\, The Jewel In The Crown\, Seven Up and Disappearing World. \nToday’s television landscape looks very different: the number of TV channels has proliferated\, global broadcasters\, streaming services and social media compete for audiences and public broadcasters face significant political threats\, as do those in the devolved nations. In response\, the BBC and Channel 4 have made strategic investments outside London to show that they reflect the whole of the country by creating outposts in Bristol\, Salford and Leeds\, and at the same time\, small\, independent programme makers are producing some of the most exciting and innovative TV. \nHannah Barker\, Professor of British History at The University of Manchester and Director of the John Rylands Research Institute will introduce the event. \nThis roundtable discussion\, ‘Devolved Vision: Granada TV and the Future of British TV’\, asks: Will be ever see another Granada TV? What is the future for British TV? \nDorothy Byrne is President of Murray Edward College\, Cambridge. She began her television career at Granada as a producer on World in Action and became Head of News and Current Affairs at Channel 4 in 2003\, before moving to a role as Editor-at-Large for the company until recently. She was made a Fellow of The Royal Television Society for her Outstanding Contribution to Television and won the RTS Journalism award for Outstanding Contribution to Television Journalism. She is the author of Trust Me\, I’m Not A Politician: A Simple Guide to Saving Democracy\, and an alumna of the University of Manchester. \nDavid Olusoga OBE is a historian\, writer\, broadcaster\, presenter and film-maker from Newcastle-upon-Tyne\, now based in Bristol. His recent work includes the multi-series A House Through Time\, Our NHS: A Hidden History\, and the BAFTA award-winning Britain’s Forgotten Slave Owners. He is Professor of Public History at the University of Manchester and recently appeared as an expert witness in the trail of the ‘Colston four’. \nLiza Williams is the BAFTA award-winning television film-maker responsible for the critically acclaimed BBC series The Yorkshire Ripper Files: A Very British Crime Story. She has an impressive track record as a producer and director of programmes including Catching A Predator (BBC 2) Stacey Dooley Investigates and Panorama. An alumna of the University of Manchester\, she still lives and works in the city. \nThis event marks the return of the Granada TV Archive to Manchester as part of the British Pop Archive at the John Ryland’s Research Institute and Library. \nThe British Pop Archive is a national collection dedicated to the preservation and research of popular culture. The collection will launch on 19 May 2022 with an exhibition featuring highlights from the collection. \nPhoto: Historic shot of Granada credit Manchester Libraries\, Information and Archives\, m06286 791.41\, Granada Television\, Offices\, 1960 H. Milligan \nConnect with Creative Manchester: \nRegister here to receive regular updates on upcoming Creative Manchester news\, events and activities. You can also connect with Creative Manchester via our Twitter\, Facebook and Instagram.
URL:https://librarylive.co.uk/event/devolved-vision-granada-tv-and-the-future-of-british-tv/
LOCATION:Performance Space
CATEGORIES:Talks
ATTACH;FMTTYPE=image/jpeg:https://librarylive.co.uk/wp-content/uploads/2022/05/Granada-Building.jpg
END:VEVENT
END:VCALENDAR