BEGIN:VCALENDAR
VERSION:2.0
PRODID:-//Library Live - ECPv6.15.13.1//NONSGML v1.0//EN
CALSCALE:GREGORIAN
METHOD:PUBLISH
X-WR-CALNAME:Library Live
X-ORIGINAL-URL:https://librarylive.co.uk
X-WR-CALDESC:Events for Library Live
REFRESH-INTERVAL;VALUE=DURATION:PT1H
X-Robots-Tag:noindex
X-PUBLISHED-TTL:PT1H
BEGIN:VTIMEZONE
TZID:UTC
BEGIN:STANDARD
TZOFFSETFROM:+0000
TZOFFSETTO:+0000
TZNAME:UTC
DTSTART:20190101T000000
END:STANDARD
END:VTIMEZONE
BEGIN:VEVENT
DTSTART;TZID=UTC:20200213T180000
DTEND;TZID=UTC:20200213T193000
DTSTAMP:20260423T165022
CREATED:20181128T192443Z
LAST-MODIFIED:20200108T100412Z
UID:2673-1581616800-1581622200@librarylive.co.uk
SUMMARY:Behind The Scenes at Manchester Central Library
DESCRIPTION:What do George V\, Gypsy Rose Lee and Bernard Bresslaw have in common? \nWhich musician was once thrown out of the Language and Literature Library? \nWhat would you find now in the space where Patrick Stewart and Helen Mirren – amongst many others – played their first roles? \nAll these questions – and many more – are answered on a tour of Manchester Central Library which will take you to all the areas not normally accessible to the general public and tell the story of this iconic building. Tours last around 90 minutes and include the chance to see some of our rarest treasures and archives. \nPlaces are strictly limited so please book early. \nPlease meet in the main entrance (Shakespeare Hall) of Central Library from 5.30pm. The tour starts at 6pm.
URL:https://librarylive.co.uk/event/behind-the-scenes-at-manchester-central-library/
CATEGORIES:Talks
ATTACH;FMTTYPE=image/jpeg:https://librarylive.co.uk/wp-content/uploads/2018/09/Reading-Room.jpg
END:VEVENT
END:VCALENDAR