BEGIN:VCALENDAR
VERSION:2.0
PRODID:-//Library Live - ECPv6.15.13.1//NONSGML v1.0//EN
CALSCALE:GREGORIAN
METHOD:PUBLISH
X-ORIGINAL-URL:https://librarylive.co.uk
X-WR-CALDESC:Events for Library Live
REFRESH-INTERVAL;VALUE=DURATION:PT1H
X-Robots-Tag:noindex
X-PUBLISHED-TTL:PT1H
BEGIN:VTIMEZONE
TZID:UTC
BEGIN:STANDARD
TZOFFSETFROM:+0000
TZOFFSETTO:+0000
TZNAME:UTC
DTSTART:20180101T000000
END:STANDARD
END:VTIMEZONE
BEGIN:VEVENT
DTSTART;TZID=UTC:20190828T190000
DTEND;TZID=UTC:20190828T201500
DTSTAMP:20260424T003647
CREATED:20190802T114145Z
LAST-MODIFIED:20190802T114743Z
UID:3684-1567018800-1567023300@librarylive.co.uk
SUMMARY:Colson Whitehead
DESCRIPTION:‘You can change the law but you can’t change people and how they treat each other.’ American author Colson Whitehead won the 2017 Pulitzer Prize for Fiction for The Underground Railroad. We’re thrilled to welcome him with Manchester Literature Festival to discuss his stunning new novel The Nickel Boys. In Jim Crow era Florida\, teenager Elwood Curtis is about to start taking advance classes at college when he’s prosecuted for a crime he didn’t commit. Sent to Nickel Academy reform school\, Elwood tries to hold on to the words of Martin Luther King\, but soon he has to learn how to survive in a school that’s trying to break him. Colson Whitehead will be in conversation with author Dave Haslam. \nImage copyright: Chris Close
URL:https://librarylive.co.uk/event/colson-whitehead-the-nickel-boys/
LOCATION:Performance Space
CATEGORIES:Talks
ATTACH;FMTTYPE=image/png:https://librarylive.co.uk/wp-content/uploads/2019/08/Colson-cropped.png
END:VEVENT
END:VCALENDAR