BEGIN:VCALENDAR
VERSION:2.0
PRODID:-//Library Live - ECPv6.15.13.1//NONSGML v1.0//EN
CALSCALE:GREGORIAN
METHOD:PUBLISH
X-ORIGINAL-URL:https://librarylive.co.uk
X-WR-CALDESC:Events for Library Live
REFRESH-INTERVAL;VALUE=DURATION:PT1H
X-Robots-Tag:noindex
X-PUBLISHED-TTL:PT1H
BEGIN:VTIMEZONE
TZID:UTC
BEGIN:STANDARD
TZOFFSETFROM:+0000
TZOFFSETTO:+0000
TZNAME:UTC
DTSTART:20180101T000000
END:STANDARD
END:VTIMEZONE
BEGIN:VEVENT
DTSTART;TZID=UTC:20190716T160000
DTEND;TZID=UTC:20190716T190000
DTSTAMP:20260424T032714
CREATED:20190528T134952Z
LAST-MODIFIED:20190528T134952Z
UID:3465-1563292800-1563303600@librarylive.co.uk
SUMMARY:Queer
DESCRIPTION:Manchester Histories are proud to present “Queer”\, a platform showcasing some of the ways that LGBT+ communities and their allies have stood strong for protest\, democracy and freedom of speech. We invite you to: hear the story of Manchester’s Clause 28 protest march\, the history of one of the most important queer publications in Manchester\, discover how archivists and activists have been using historical material to share LGBT+ heritage and much more. \nFree – booking recommended
URL:https://librarylive.co.uk/event/queer/
LOCATION:Performance Space
CATEGORIES:Talks
ATTACH;FMTTYPE=image/jpeg:https://librarylive.co.uk/wp-content/uploads/2018/02/Gay-Unity-Feb-1988.jpg
END:VEVENT
END:VCALENDAR