BEGIN:VCALENDAR
VERSION:2.0
PRODID:-//Library Live - ECPv6.15.13.1//NONSGML v1.0//EN
CALSCALE:GREGORIAN
METHOD:PUBLISH
X-WR-CALNAME:Library Live
X-ORIGINAL-URL:https://librarylive.co.uk
X-WR-CALDESC:Events for Library Live
REFRESH-INTERVAL;VALUE=DURATION:PT1H
X-Robots-Tag:noindex
X-PUBLISHED-TTL:PT1H
BEGIN:VTIMEZONE
TZID:UTC
BEGIN:STANDARD
TZOFFSETFROM:+0000
TZOFFSETTO:+0000
TZNAME:UTC
DTSTART:20180101T000000
END:STANDARD
END:VTIMEZONE
BEGIN:VEVENT
DTSTART;TZID=UTC:20190712T140000
DTEND;TZID=UTC:20190712T150000
DTSTAMP:20260424T032437
CREATED:20190409T120113Z
LAST-MODIFIED:20190521T085950Z
UID:3149-1562940000-1562943600@librarylive.co.uk
SUMMARY:Ballads and Songs of Peterloo\, with Dr Alison Morgan
DESCRIPTION:Ballads and Songs of Peterloo by Dr Alison Morgan is based on her unique collection of more than seventy poems and ballads which highlight the outrage\, grief\, defiance and resolution felt by labouring-class people in the immediate aftermath of the Peterloo Massacre in which eighteen people were killed and more than 600 injured as they listened to the radical Henry Hunt speak on the need for electoral reform. \nAlison’s talk focuses on a selection of these poems and songs which were circulated in radical journals and performed at markets and in taverns\, highlighting how they aimed to keep a true record of the day in the public consciousness and counter the official government narrative. The talk will be illustrated by audio recordings from musicians who have worked with Alison to bring these important and entertaining songs to life once more. \nFree – please drop in \n \n 
URL:https://librarylive.co.uk/event/ballads-and-songs-of-peterloo-with-dr-alison-morgan/
LOCATION:Performance Space
CATEGORIES:Talks
ATTACH;FMTTYPE=image/jpeg:https://librarylive.co.uk/wp-content/uploads/2019/04/Ballads-Songs-of-Peterloo-1_1.jpg
END:VEVENT
END:VCALENDAR