BEGIN:VCALENDAR
VERSION:2.0
PRODID:-//Library Live - ECPv6.15.13.1//NONSGML v1.0//EN
CALSCALE:GREGORIAN
METHOD:PUBLISH
X-ORIGINAL-URL:https://librarylive.co.uk
X-WR-CALDESC:Events for Library Live
REFRESH-INTERVAL;VALUE=DURATION:PT1H
X-Robots-Tag:noindex
X-PUBLISHED-TTL:PT1H
BEGIN:VTIMEZONE
TZID:UTC
BEGIN:STANDARD
TZOFFSETFROM:+0000
TZOFFSETTO:+0000
TZNAME:UTC
DTSTART:20180101T000000
END:STANDARD
END:VTIMEZONE
BEGIN:VEVENT
DTSTART;TZID=UTC:20190709T180000
DTEND;TZID=UTC:20190709T200000
DTSTAMP:20260424T032728
CREATED:20190531T095528Z
LAST-MODIFIED:20190603T092959Z
UID:3504-1562695200-1562702400@librarylive.co.uk
SUMMARY:Prostest in the Surveillance State: The East German Jewish Dissident Stefan Heym
DESCRIPTION:This talk traces strategies of civil disobedience in Cold War Eastern Germany through the case of the German Jewish dissident Stefan Heym. Born into a German-Jewish family in Chemnitz (now notorious for its recent outbreaks of Far Right violence) in 1913\, Heym was an early sympathiser of the Communist Party. He fled from Nazi Germany in 1933 and spent his year’s of exile in Czechoslovakia and the US\, serving during WWII as a US Army intelligence officer. He settled in East Germany in 1952\, where he witnessed the unfolding of the antisemitic Stalinist show trials in Prague and East Berlin\, and subsequently became disenchanted with state socialism (but never the communist idea itself). As well as being an internationally renowned writer\, Heym was a life-long advocate of social justice and personal freedom and witness of the 20th struggle for these ideals.
URL:https://librarylive.co.uk/event/prostest-in-the-surveillance-state-the-east-german-jewish-dissident-stefan-heym/
LOCATION:Performance Space
CATEGORIES:Talks
ATTACH;FMTTYPE=image/jpeg:https://librarylive.co.uk/wp-content/uploads/2019/05/Protest-in-the-surveillance-state-1_1.jpg
END:VEVENT
END:VCALENDAR