BEGIN:VCALENDAR
VERSION:2.0
PRODID:-//Library Live - ECPv6.15.13.1//NONSGML v1.0//EN
CALSCALE:GREGORIAN
METHOD:PUBLISH
X-WR-CALNAME:Library Live
X-ORIGINAL-URL:https://librarylive.co.uk
X-WR-CALDESC:Events for Library Live
REFRESH-INTERVAL;VALUE=DURATION:PT1H
X-Robots-Tag:noindex
X-PUBLISHED-TTL:PT1H
BEGIN:VTIMEZONE
TZID:UTC
BEGIN:STANDARD
TZOFFSETFROM:+0000
TZOFFSETTO:+0000
TZNAME:UTC
DTSTART:20180101T000000
END:STANDARD
END:VTIMEZONE
BEGIN:VEVENT
DTSTART;TZID=UTC:20190220T180000
DTEND;TZID=UTC:20190220T193000
DTSTAMP:20260424T110148
CREATED:20190214T112351Z
LAST-MODIFIED:20190214T133730Z
UID:2951-1550685600-1550691000@librarylive.co.uk
SUMMARY:Made In Manchester: Power Up! Getting to the next level in the Gaming & Apps Industries
DESCRIPTION:The Gaming and Apps industries are BIG business. Nearly 2.2 billion people play games worldwide\, and the global market for video games was worth $138 billion dollars in 2018\, set to rise to $180 billion in 2021. Nearly half of that will come from Mobile revenues. \nOur panel of industry experts will discuss what it takes to be successful in these massive industries\, and offer tips and advice. \nThe panel includes: \nStephen Hey \nStephen’s career spans 26 years of games PR\, advertising\, product marketing and latterly the role of Marketing Director at EA studio\, Chillingo. He has worked on some stand out games and franchises from Worms\, Lego Star Wars\, Resident Evil\, Cut The Rope and Micro Machines to WWE\, FIFA\, PES and other acronym based classics. He now runs games marketing consultancy HeyStephenHey. \nSteve Hilton \nFounder of Liberty Apps\, an agency started to produce life changing smart phone applications. Presented technology talks around the nation at 20+ events regarding Culture\, Chatbots & Mobile Apps. \nWinner of the NHS Hackday\, Homeless Hack\, Hacking the Future of Energy\, Public Health England HackX and the most prolific networker in Manchester Meetup Tech Scene 2018. \nPlus more to be announced! \nHosted by Martyn Walsh from Manchester’s very own Inspiral Carpets and the Creative Industries Guru in Residence at the BIPC.
URL:https://librarylive.co.uk/event/made-in-manchester-power-up-getting-to-the-next-level-in-the-gaming-apps-industries/
LOCATION:Performance Space
CATEGORIES:Talks
ATTACH;FMTTYPE=image/jpeg:https://librarylive.co.uk/wp-content/uploads/2019/02/alien-arcade-background-1670977.jpg
END:VEVENT
END:VCALENDAR