BEGIN:VCALENDAR
VERSION:2.0
PRODID:-//Library Live - ECPv6.15.13.1//NONSGML v1.0//EN
CALSCALE:GREGORIAN
METHOD:PUBLISH
X-ORIGINAL-URL:https://librarylive.co.uk
X-WR-CALDESC:Events for Library Live
REFRESH-INTERVAL;VALUE=DURATION:PT1H
X-Robots-Tag:noindex
X-PUBLISHED-TTL:PT1H
BEGIN:VTIMEZONE
TZID:UTC
BEGIN:STANDARD
TZOFFSETFROM:+0000
TZOFFSETTO:+0000
TZNAME:UTC
DTSTART:20180101T000000
END:STANDARD
END:VTIMEZONE
BEGIN:VEVENT
DTSTART;TZID=UTC:20190218T180000
DTEND;TZID=UTC:20190218T190000
DTSTAMP:20260424T110430
CREATED:20190121T152022Z
LAST-MODIFIED:20190121T152022Z
UID:2854-1550512800-1550516400@librarylive.co.uk
SUMMARY:Christine Burns MBE. Trans Britain: Our Journey From the Shadows
DESCRIPTION:As part of our celebration of LGBT History Month\, join us for a special In Conversation with Christine Burns\, hosted by Carl Austin-Behan. \nTrans people have been on a long journey for recognition and respect. Former campaigner Christine Burns has a lifetime’s experience of that journey and uses it to enable untold stories to be heard. These are stories with strong Manchester roots\, just like the history of early gay rights. \nThere will also be an opportunity to view some items from the Central Library collections. \nPhotograph credit: Kieron Crisham of Pholux Photo. \nFree – booking required
URL:https://librarylive.co.uk/event/christine-burns-mbe-trans-britain-our-journey-from-the-shadows/
LOCATION:Performance Space
CATEGORIES:Talks
ATTACH;FMTTYPE=image/jpeg:https://librarylive.co.uk/wp-content/uploads/2019/01/Bio-00-Author-Square-by-Kieron-Chrisham-Pholux-Foto.jpeg
END:VEVENT
END:VCALENDAR