BEGIN:VCALENDAR
VERSION:2.0
PRODID:-//Library Live - ECPv6.15.13.1//NONSGML v1.0//EN
CALSCALE:GREGORIAN
METHOD:PUBLISH
X-ORIGINAL-URL:https://librarylive.co.uk
X-WR-CALDESC:Events for Library Live
REFRESH-INTERVAL;VALUE=DURATION:PT1H
X-Robots-Tag:noindex
X-PUBLISHED-TTL:PT1H
BEGIN:VTIMEZONE
TZID:UTC
BEGIN:STANDARD
TZOFFSETFROM:+0000
TZOFFSETTO:+0000
TZNAME:UTC
DTSTART:20170101T000000
END:STANDARD
END:VTIMEZONE
BEGIN:VEVENT
DTSTART;TZID=UTC:20181025T173000
DTEND;TZID=UTC:20181025T193000
DTSTAMP:20260424T172046
CREATED:20180911T083250Z
LAST-MODIFIED:20180911T083250Z
UID:2310-1540488600-1540495800@librarylive.co.uk
SUMMARY:Ghana and its Contemporary Global Relations with Professor Adams Bodomo
DESCRIPTION:In this evening session Professor Adams Bodomo\, Head of African Studies at the University of Vienna\, discusses Ghana’s contemporary position in global politics and international relations.  Starting with a brief history of Ghana since its establishment as a new nation in 1957\, Professor Bodomo will outline the country’s socio-political\, socio-economic\, and socio-cultural context before focusing on the Ghana’s contemporary global relations. He will consider government-to-government relations with world bodies and regions\, such as Europe and the West\, China and Asia\, and the Caribbean islands nations\, as well as people-to-people relations across the many diasporic populations in major cities like London and Manchester. \nProf. Dr. Adams Bodomo\, a native of Ghana\, is professor of African studies at the University of Vienna\, Austria. He is the author of over 10 books and over a 100 journal articles and book chapters. Two of his most recent book publications are Africans in China (Cambria Press\, 2012) and The Globalization of Foreign Investment in Africa: The Role of Europe\, China and India (Emerald Publishing\, 2017). The research presented in this talk is part of the speaker’s next book project titled ‘Africa and its Global Relations’.
URL:https://librarylive.co.uk/event/ghana-and-its-contemporary-global-relations-with-professor-adams-bodomo/
LOCATION:Performance Space
CATEGORIES:Talks
ATTACH;FMTTYPE=image/jpeg:https://librarylive.co.uk/wp-content/uploads/2018/09/bodomo.jpg
END:VEVENT
END:VCALENDAR