BEGIN:VCALENDAR
VERSION:2.0
PRODID:-//Library Live - ECPv6.15.13.1//NONSGML v1.0//EN
CALSCALE:GREGORIAN
METHOD:PUBLISH
X-WR-CALNAME:Library Live
X-ORIGINAL-URL:https://librarylive.co.uk
X-WR-CALDESC:Events for Library Live
REFRESH-INTERVAL;VALUE=DURATION:PT1H
X-Robots-Tag:noindex
X-PUBLISHED-TTL:PT1H
BEGIN:VTIMEZONE
TZID:UTC
BEGIN:STANDARD
TZOFFSETFROM:+0000
TZOFFSETTO:+0000
TZNAME:UTC
DTSTART:20170101T000000
END:STANDARD
END:VTIMEZONE
BEGIN:VEVENT
DTSTART;TZID=UTC:20181011T190000
DTEND;TZID=UTC:20181011T210000
DTSTAMP:20260424T171750
CREATED:20180831T134331Z
LAST-MODIFIED:20180831T134413Z
UID:2189-1539284400-1539291600@librarylive.co.uk
SUMMARY:Carol Ann Duffy\, Suzanne Batty & Clare Shaw
DESCRIPTION:Come and celebrate the launch of three of the most anticipated and emotionally charged poetry books of the year. Carol Ann Duffy’s final collection as Poet Laureate\, Sincerity\, is a frank\, disarming and deeply moving exploration of loss and remembrance in their many forms. Carol Ann has received numerous awards for her candid and heartfelt poetry\, including the Whitbread\, Forward\, T S Eliot and PEN Pinter Prizes. Suzanne Batty transforms mental anguish into things of anarchic and sensual beauty in her second full-length collection\, States of Happiness\, featuring a sequence of poems written in memory of her twin sister\, who died of a rare degenerative disease. Clare Shaw’s third collection\, Flood\, offers an eye-witness account of living through the 2015 flooding of her home town Hebden Bridge\, interwoven with more intimate poems chronicling the breakdown of a relationship – themes of loss\, destruction and recovery are explored in a language as dangerous and sustaining as water.
URL:https://librarylive.co.uk/event/carol-ann-duffy-suzanne-batty-clare-shaw/
LOCATION:Performance Space
CATEGORIES:Talks
ATTACH;FMTTYPE=image/jpeg:https://librarylive.co.uk/wp-content/uploads/2018/08/Carol-Ann-Duffy-Suzanne-Batty-Clare-Shaw.jpg
END:VEVENT
END:VCALENDAR