BEGIN:VCALENDAR
VERSION:2.0
PRODID:-//Library Live - ECPv6.15.13.1//NONSGML v1.0//EN
CALSCALE:GREGORIAN
METHOD:PUBLISH
X-WR-CALNAME:Library Live
X-ORIGINAL-URL:https://librarylive.co.uk
X-WR-CALDESC:Events for Library Live
REFRESH-INTERVAL;VALUE=DURATION:PT1H
X-Robots-Tag:noindex
X-PUBLISHED-TTL:PT1H
BEGIN:VTIMEZONE
TZID:UTC
BEGIN:STANDARD
TZOFFSETFROM:+0000
TZOFFSETTO:+0000
TZNAME:UTC
DTSTART:20170101T000000
END:STANDARD
END:VTIMEZONE
BEGIN:VEVENT
DTSTART;TZID=UTC:20181010T130000
DTEND;TZID=UTC:20181010T140000
DTSTAMP:20260424T171726
CREATED:20180831T132034Z
LAST-MODIFIED:20180831T132358Z
UID:2172-1539176400-1539180000@librarylive.co.uk
SUMMARY:Take Ten With The Writing Squad
DESCRIPTION:You have ten minutes. Ten minutes to go anywhere you like\, with anyone\, in any time – the past\, the future\, in this world\, out of this world – where would you go? Open a book and read yourself there\, pick up a pen and write yourself away. Stay close to home\, enter a different dimension\, go anywhere in between. Come and hear journeys in reading and writing by members of The Writing Squad and the brilliant students they have been working with from Manchester Enterprise Academy\, St Paul’s Catholic High School and Trinity C of E High School. \nThis event is supported by Read Manchester\, the Granada Foundation and Manchester Guardian Society Charitable Trust. \n \nTickets are free but booking is advised \n(Donations welcome on the door)
URL:https://librarylive.co.uk/event/take-ten-writing-squad/
LOCATION:Performance Space
CATEGORIES:Talks
ATTACH;FMTTYPE=image/jpeg:https://librarylive.co.uk/wp-content/uploads/2018/08/Take-Ten.jpg
END:VEVENT
BEGIN:VEVENT
DTSTART;TZID=UTC:20181010T190000
DTEND;TZID=UTC:20181010T210000
DTSTAMP:20260424T171726
CREATED:20180831T133759Z
LAST-MODIFIED:20180831T133759Z
UID:2182-1539198000-1539205200@librarylive.co.uk
SUMMARY:Mohammed Hanif in Conversation 
DESCRIPTION:Q: What do an American pilot who’s crashed in the desert\, a teenager full of money-making schemes\, and a dog suffering through a very bad day have in common? A: They all narrate the new\, hilariously funny novel\, Red Birds\, by acclaimed author Mohammed Hanif (A Case of Exploding Mangoes). Through the inhabitants of the refugee camp that Major Ellie was supposed to bomb\, Mohammed looks at the absurdity of war\, specifically considering the tensions between America and the Muslim world. As fifteen-year-old Momo says about the Families Rehabilitation Programme\, ‘First they bomb us from the skies\, then they work hard to cure our stress’. A journalist\, author and playwright\, Mohammed was recently awarded the third-highest civilian award of Pakistan\, the Sitara-e-Imtiaz. Presented in partnership with the Centre for New Writing.
URL:https://librarylive.co.uk/event/mohammed-hanif-conversation/
LOCATION:Performance Space
CATEGORIES:Talks
ATTACH;FMTTYPE=image/jpeg:https://librarylive.co.uk/wp-content/uploads/2018/08/Mohammed-Hanif-in-conversation.jpg
END:VEVENT
END:VCALENDAR