BEGIN:VCALENDAR
VERSION:2.0
PRODID:-//Library Live - ECPv6.15.13.1//NONSGML v1.0//EN
CALSCALE:GREGORIAN
METHOD:PUBLISH
X-ORIGINAL-URL:https://librarylive.co.uk
X-WR-CALDESC:Events for Library Live
REFRESH-INTERVAL;VALUE=DURATION:PT1H
X-Robots-Tag:noindex
X-PUBLISHED-TTL:PT1H
BEGIN:VTIMEZONE
TZID:UTC
BEGIN:STANDARD
TZOFFSETFROM:+0000
TZOFFSETTO:+0000
TZNAME:UTC
DTSTART:20170101T000000
END:STANDARD
END:VTIMEZONE
BEGIN:VEVENT
DTSTART;TZID=UTC:20180912T183000
DTEND;TZID=UTC:20180912T200000
DTSTAMP:20260424T184928
CREATED:20180801T140941Z
LAST-MODIFIED:20180824T144826Z
UID:2081-1536777000-1536782400@librarylive.co.uk
SUMMARY:An Evening with Deliciously Ella
DESCRIPTION:Ella Mills Woodward’s inspirational\, lively writing and delicious recipes have inspired countless people to move towards a plant-based diet.  Her fans will find much to savour in her new book\, which highlights some of the most popular dishes served in her own deli. We’re delighted to welcome her to discuss her writing and the personal events that have inspired it. \nTickets are £15 including a copy of the book or £5 for admittance only. \n  \n 
URL:https://librarylive.co.uk/event/evening-deliciously-ella/
LOCATION:Performance Space
CATEGORIES:Talks
ATTACH;FMTTYPE=image/jpeg:https://librarylive.co.uk/wp-content/uploads/2018/08/deliciously-ella.jpg
END:VEVENT
END:VCALENDAR