BEGIN:VCALENDAR
VERSION:2.0
PRODID:-//Library Live - ECPv6.15.13.1//NONSGML v1.0//EN
CALSCALE:GREGORIAN
METHOD:PUBLISH
X-WR-CALNAME:Library Live
X-ORIGINAL-URL:https://librarylive.co.uk
X-WR-CALDESC:Events for Library Live
REFRESH-INTERVAL;VALUE=DURATION:PT1H
X-Robots-Tag:noindex
X-PUBLISHED-TTL:PT1H
BEGIN:VTIMEZONE
TZID:UTC
BEGIN:STANDARD
TZOFFSETFROM:+0000
TZOFFSETTO:+0000
TZNAME:UTC
DTSTART:20170101T000000
END:STANDARD
END:VTIMEZONE
BEGIN:VEVENT
DTSTART;TZID=UTC:20180313T190000
DTEND;TZID=UTC:20180313T203000
DTSTAMP:20260425T041236
CREATED:20180222T162352Z
LAST-MODIFIED:20180226T154917Z
UID:1473-1520967600-1520973000@librarylive.co.uk
SUMMARY:Patrisse Khan-Cullors in conversation about #BlackLivesMatter
DESCRIPTION:Manchester Literature Festival is delighted to welcome Patrisse Khan-Cullors to Manchester to discuss her illuminating memoir\, When They Call You a Terrorist: A Black Lives Matter Memoir. She will be in conversation with Manchester Literature Festival Patron\, writer and poet Jackie Kay. \nOne of the most prominent activists of her generation\, Patrisse is an artist\, organizer and freedom fighter from Los Angeles\, California. She’s also a Fullbright scholar\, an NAACP History Maker and a Los Angeles Times’ Civil Rights Leader for the 21st Century. Patrisse began her journey as a community organizer at sixteen and has co-founded several activist and civil rights movements in the US\, including Dignity\, Power Now and Black Lives Matter. \nCo-written with author and journalist Asha Bandele\, When They Call You a Terrorist is a courageous and extraordinary account of survival\, strength and resistance. Informed by Patrisse’s personal story and experiences\, her memoir shows what led her to become a founder of Black Lives Matter\, seeking to end the culture that declares black life expendable. From accounts of the brutal treatment of family and friends by the State\, to the severe socio-economic disadvantages handed to those born in black majority communities; dismaying personal experiences of racial and LGBTQ+ stigma to Patrisse’s first community campaigns as an intersectional feminist activist\, When They Call You a Terrorist builds a deep understanding of the cultural drivers of structural inequality\, oppression\, misogyny and racism\, and why they need to be actively addressed from the ground up. \nJoin us to hear Patrisse discuss her necessary and timely memoir\, the aims and actions of #BlackLivesMatter and how the movement has expanded to mobilise activists across the world. This event is in partnership with the Centre for New Writing. \nDoors open at 6.30pm\, event starts at 7pm
URL:https://librarylive.co.uk/event/patrisse-khan-cullors-conversation-blacklivesmatter/
CATEGORIES:Talks
ATTACH;FMTTYPE=image/jpeg:https://librarylive.co.uk/wp-content/uploads/2018/02/Patrisse_Khan_Cullors-c-Ryan-Pfluger.jpg
END:VEVENT
END:VCALENDAR