BEGIN:VCALENDAR
VERSION:2.0
PRODID:-//Library Live - ECPv6.15.13.1//NONSGML v1.0//EN
CALSCALE:GREGORIAN
METHOD:PUBLISH
X-WR-CALNAME:Library Live
X-ORIGINAL-URL:https://librarylive.co.uk
X-WR-CALDESC:Events for Library Live
REFRESH-INTERVAL;VALUE=DURATION:PT1H
X-Robots-Tag:noindex
X-PUBLISHED-TTL:PT1H
BEGIN:VTIMEZONE
TZID:UTC
BEGIN:STANDARD
TZOFFSETFROM:+0000
TZOFFSETTO:+0000
TZNAME:UTC
DTSTART:20170101T000000
END:STANDARD
END:VTIMEZONE
BEGIN:VEVENT
DTSTART;TZID=UTC:20180310T140000
DTEND;TZID=UTC:20180310T150000
DTSTAMP:20260425T041236
CREATED:20180118T145107Z
LAST-MODIFIED:20180118T162345Z
UID:1371-1520690400-1520694000@librarylive.co.uk
SUMMARY:The Peterloo Massacre: a talk by Dr Robert Poole
DESCRIPTION:Manchester Libraries are pleased to welcome Dr Robert Poole for a fascinating talk on the Peterloo Massacre as part of the BBC Civilisations Festival. \nOne of the major interests of Dr Robert Poole is popular protest in the age of reform and industrial revolution 1780s-1850s. He is a leading authority on the subject of Peterloo\, Chartism etc. In 2016 he was interviewed by Melvin Bragg on the BBC Radio 4 show ‘The Matter of the North’ exploring the radical movements that sprang from the North. His recently published book “Return to Peterloo” offers new perspectives and crucial new evidence. \nDr Poole will be signing and selling his book – ‘Return to Peterloo’ after the talk. \nSupported by Manchester Histories\, HLF\, National Lottery Players and Manchester City Council.
URL:https://librarylive.co.uk/event/the-peterloo-massacre/
CATEGORIES:Talks
ATTACH;FMTTYPE=image/jpeg:https://librarylive.co.uk/wp-content/uploads/2018/01/peterloo.jpg
END:VEVENT
END:VCALENDAR