BEGIN:VCALENDAR
VERSION:2.0
PRODID:-//Library Live - ECPv6.15.13.1//NONSGML v1.0//EN
CALSCALE:GREGORIAN
METHOD:PUBLISH
X-WR-CALNAME:Library Live
X-ORIGINAL-URL:https://librarylive.co.uk
X-WR-CALDESC:Events for Library Live
REFRESH-INTERVAL;VALUE=DURATION:PT1H
X-Robots-Tag:noindex
X-PUBLISHED-TTL:PT1H
BEGIN:VTIMEZONE
TZID:UTC
BEGIN:STANDARD
TZOFFSETFROM:+0000
TZOFFSETTO:+0000
TZNAME:UTC
DTSTART:20170101T000000
END:STANDARD
END:VTIMEZONE
BEGIN:VEVENT
DTSTART;TZID=UTC:20180307T183000
DTEND;TZID=UTC:20180307T193000
DTSTAMP:20260425T041144
CREATED:20180214T143013Z
LAST-MODIFIED:20180214T143158Z
UID:1441-1520447400-1520451000@librarylive.co.uk
SUMMARY:Votes for Women
DESCRIPTION:In the centenary year commemorating (some) UK women first gaining the vote\, learn how Manchester played a major role in the fight. This entertaining and informative illustrated talk covers the campaign tactics of both peaceful suffragists and militant suffragettes\, and the often barbaric backlash they endured. \nFree talk – please drop in
URL:https://librarylive.co.uk/event/votes-for-women/
LOCATION:Performance Space
CATEGORIES:Talks
ATTACH;FMTTYPE=image/jpeg:https://librarylive.co.uk/wp-content/uploads/2018/02/Votes-for-Women.jpg
END:VEVENT
END:VCALENDAR