BEGIN:VCALENDAR
VERSION:2.0
PRODID:-//Library Live - ECPv6.15.13.1//NONSGML v1.0//EN
CALSCALE:GREGORIAN
METHOD:PUBLISH
X-ORIGINAL-URL:https://librarylive.co.uk
X-WR-CALDESC:Events for Library Live
REFRESH-INTERVAL;VALUE=DURATION:PT1H
X-Robots-Tag:noindex
X-PUBLISHED-TTL:PT1H
BEGIN:VTIMEZONE
TZID:UTC
BEGIN:STANDARD
TZOFFSETFROM:+0000
TZOFFSETTO:+0000
TZNAME:UTC
DTSTART:20210101T000000
END:STANDARD
END:VTIMEZONE
BEGIN:VEVENT
DTSTART;TZID=UTC:20221122T180000
DTEND;TZID=UTC:20221122T190000
DTSTAMP:20260421T094128
CREATED:20221101T165710Z
LAST-MODIFIED:20221103T162641Z
UID:6650-1669140000-1669143600@librarylive.co.uk
SUMMARY:Male beauty vlogging in China: a masculinities perspective
DESCRIPTION:Male beauty vlogging is flourishing in China despite fears of a masculinity ‘crisis’\, sissyphobia and LGBT crackdowns. Key questions arise: To what extent does male beauty vlogging challenge the notion of a crisis of masculinity and offer new\, positive gender expressions for men? To what extent does it reinforce hierarchical and oppressive formations of gender and sexuality? This talk\, part of a series of talks from the Confucius Institute at the University of Manchester\, analyses three male beauty vloggers’ promotion of a ‘fake-natural look for straight men’ involving non-visible makeup and examines another vlogger’s critique of the feminization of visible makeup-wearing men. \nFree – book here \n 
URL:https://librarylive.co.uk/event/male-beauty-vlogging-in-china-a-masculinities-perspective/
LOCATION:Performance Space
CATEGORIES:Talks
ATTACH;FMTTYPE=image/png:https://librarylive.co.uk/wp-content/uploads/2022/11/mal-beauty-vlogging.png
END:VEVENT
END:VCALENDAR