BEGIN:VCALENDAR
VERSION:2.0
PRODID:-//Library Live - ECPv6.15.13.1//NONSGML v1.0//EN
CALSCALE:GREGORIAN
METHOD:PUBLISH
X-WR-CALNAME:Library Live
X-ORIGINAL-URL:https://librarylive.co.uk
X-WR-CALDESC:Events for Library Live
REFRESH-INTERVAL;VALUE=DURATION:PT1H
X-Robots-Tag:noindex
X-PUBLISHED-TTL:PT1H
BEGIN:VTIMEZONE
TZID:UTC
BEGIN:STANDARD
TZOFFSETFROM:+0000
TZOFFSETTO:+0000
TZNAME:UTC
DTSTART:20180101T000000
END:STANDARD
END:VTIMEZONE
BEGIN:VEVENT
DTSTART;TZID=UTC:20191111T173000
DTEND;TZID=UTC:20191111T183000
DTSTAMP:20260423T195720
CREATED:20191107T154054Z
LAST-MODIFIED:20191107T154054Z
UID:4243-1573493400-1573497000@librarylive.co.uk
SUMMARY:Made In Manchester: In Conversation with Malcolm Garrett
DESCRIPTION:As a graphic designer\, Malcolm Garrett’s work for bands such as Buzzcocks and Duran Duran established him as one of the most influential figures of the 80s. He was one of the first graphic designers to recognise the potential of digital media and he has been at the forefront of exploring its frontiers ever since. In 2000\, he was the first Royal Designer for Industry (RDI) in the field of interactive media.
URL:https://librarylive.co.uk/event/made-in-manchester-in-conversation-with-malcolm-garrett/
LOCATION:Seminar Suite\, Floor Two
CATEGORIES:Talks
ATTACH;FMTTYPE=image/jpeg:https://librarylive.co.uk/wp-content/uploads/2019/11/malclm-2.jpg
END:VEVENT
BEGIN:VEVENT
DTSTART;TZID=UTC:20191116T130000
DTEND;TZID=UTC:20191116T140000
DTSTAMP:20260423T195720
CREATED:20191022T105420Z
LAST-MODIFIED:20191022T144300Z
UID:4124-1573909200-1573912800@librarylive.co.uk
SUMMARY:Capturing the Crescents
DESCRIPTION:A Photographic Journey through Hulme in the 1980’s – 90’s\, and how I survived and thrived by Richard Davis \nA talk and book signing by photographer Richard Davis…. \n‘I arrived in Hulme in 1988\, having left behind Birmingham so I could study Photography at Manchester Polytechnic. For the next five years Hulme was Home and I loved every single second of it. Talk about Right Place\, Right Time\, –  Manchester\, or should I say Madchester\, felt like the centre of the universe and Hulme even more so. There wasn’t really a plan to document my time there via Photography\, it just sort of naturally happened and years on\, I’m so glad I did…….this is my story.’ \nFree – please drop in \n 
URL:https://librarylive.co.uk/event/capturing-the-crescents/
LOCATION:Performance Space
CATEGORIES:Talks
ATTACH;FMTTYPE=image/jpeg:https://librarylive.co.uk/wp-content/uploads/2019/10/NEWHULME4x.jpg
END:VEVENT
BEGIN:VEVENT
DTSTART;TZID=UTC:20191127T180000
DTEND;TZID=UTC:20191127T190000
DTSTAMP:20260423T195720
CREATED:20191022T112819Z
LAST-MODIFIED:20191022T113004Z
UID:4134-1574877600-1574881200@librarylive.co.uk
SUMMARY:Prostheses in Antiquity: Everything You Never Knew You Wanted to Know
DESCRIPTION:A variety of different types of prostheses were used by the Greeks and Romans to replace various missing body parts. In this talk\, we shall consider the following questions: How common – or uncommon – were prostheses in classical antiquity? Who made them? How and why did they make them? Who used them? How and why did they use them? And how were they – and their prostheses – viewed by other members of ancient society as a result? \nThe Manchester Classical Association presents Dr Jane Draycott (University of Glasgow)\, expert on disease\, disabilties and prosthetics in the ancient world. Dr Draycott will give an illustrated presentation followed by discussion with the Manchester Classical Association Chair\, Dr April Pudsey of Manchester Metropolitan University. \nAll talks in this series are free and open to the public. Please join us for light refreshments from 5.30pm\, and take the opportunity to speak with members of the Manchester Classical Association\, and find out more about our work promoting Classics and Ancient History around the region. https://www.manchesterca.org.uk/ \nThis talk will be jointly hosted with the Society for the Promotion of Roman Studies. \nRefreshments from 5.30pm. Dr Draycott’s talk begins at 6pm and will be followed by discussion\, and an informal Q&A with the audience
URL:https://librarylive.co.uk/event/prostheses-in-antiquity-everything-you-never-knew-you-wanted-to-know/
LOCATION:Performance Space
CATEGORIES:Talks
ATTACH;FMTTYPE=image/jpeg:https://librarylive.co.uk/wp-content/uploads/2019/10/draycott3.jpg
END:VEVENT
END:VCALENDAR