BEGIN:VCALENDAR
VERSION:2.0
PRODID:-//Library Live - ECPv6.15.13.1//NONSGML v1.0//EN
CALSCALE:GREGORIAN
METHOD:PUBLISH
X-WR-CALNAME:Library Live
X-ORIGINAL-URL:https://librarylive.co.uk
X-WR-CALDESC:Events for Library Live
REFRESH-INTERVAL;VALUE=DURATION:PT1H
X-Robots-Tag:noindex
X-PUBLISHED-TTL:PT1H
BEGIN:VTIMEZONE
TZID:UTC
BEGIN:STANDARD
TZOFFSETFROM:+0000
TZOFFSETTO:+0000
TZNAME:UTC
DTSTART:20180101T000000
END:STANDARD
END:VTIMEZONE
BEGIN:VEVENT
DTSTART;TZID=UTC:20191019T020000
DTEND;TZID=UTC:20191019T160000
DTSTAMP:20260423T213205
CREATED:20190912T113616Z
LAST-MODIFIED:20190912T114119Z
UID:3946-1571450400-1571500800@librarylive.co.uk
SUMMARY:Down and Out in Scotland
DESCRIPTION:Dr Chris Paton explores some of the areas of ancestral hardship\, to allow us to truly understand the situations that our forebears had to endure and overcome. An Anglo-Scottish Family History Society event.
URL:https://librarylive.co.uk/event/down-and-out-in-scotland/
LOCATION:Meeting Room 1
CATEGORIES:Talks
ATTACH;FMTTYPE=image/png:https://librarylive.co.uk/wp-content/uploads/2019/09/down-and-out2.png
END:VEVENT
BEGIN:VEVENT
DTSTART;TZID=UTC:20191024T173000
DTEND;TZID=UTC:20191024T193000
DTSTAMP:20260423T213205
CREATED:20191007T094721Z
LAST-MODIFIED:20191007T094817Z
UID:4081-1571938200-1571945400@librarylive.co.uk
SUMMARY:She Kreativ
DESCRIPTION:European expat women share their experience of being a woman\, an immigrant\, and a business leader in creative industries. \nWe will welcome 4 European expat women who run a creative business in Manchester to share their experience of being a woman\, an immigrant\, and a leader in creative industries. \nOur speakers will present a range of art disciplines as well as stages in career. The event will start with short presentations about their creative projects followed by a panel discussion with audience questions moderated by Ruta Skudraite\, co-founder of Europia Art Collective. \nSpeakers: \nBaiba Auria\, digital portrait artists and owner of Egoiste Gallery \nIna Colizza\, contemporary dancer and director of Matrafisc Dance Company \nSara Riccardi\, art historian and founder of Art Across \nMarija Girdzijauskaite\, founder of techno music label Marge Powerhouse \nSponsors: Fred Aldous. Polish Village Bakery \n 
URL:https://librarylive.co.uk/event/she-kreativ/
LOCATION:Performance Space
CATEGORIES:Talks
ATTACH;FMTTYPE=image/jpeg:https://librarylive.co.uk/wp-content/uploads/2019/10/she-kreativ-new.jpg
END:VEVENT
END:VCALENDAR