BEGIN:VCALENDAR
VERSION:2.0
PRODID:-//Library Live - ECPv6.15.13.1//NONSGML v1.0//EN
CALSCALE:GREGORIAN
METHOD:PUBLISH
X-WR-CALNAME:Library Live
X-ORIGINAL-URL:https://librarylive.co.uk
X-WR-CALDESC:Events for Library Live
REFRESH-INTERVAL;VALUE=DURATION:PT1H
X-Robots-Tag:noindex
X-PUBLISHED-TTL:PT1H
BEGIN:VTIMEZONE
TZID:UTC
BEGIN:STANDARD
TZOFFSETFROM:+0000
TZOFFSETTO:+0000
TZNAME:UTC
DTSTART:20180101T000000
END:STANDARD
END:VTIMEZONE
BEGIN:VEVENT
DTSTART;TZID=UTC:20190909T130000
DTEND;TZID=UTC:20190909T140000
DTSTAMP:20260423T230548
CREATED:20190822T085906Z
LAST-MODIFIED:20190822T110946Z
UID:3715-1568034000-1568037600@librarylive.co.uk
SUMMARY:Treasures of Manchester Central Library: two Nuremberg Chronicles (1493) and their early modern readers’.
DESCRIPTION:Dr Nina Adamova presents ‘Treasures of Manchester Central Library: two Nuremberg Chronicles (1493) and their early modern readers’. \nThe talk will explore the most famous early-printed world chronicle – the Nuremberg Chronicle by Hartmann Schedel (1493). The presentation will focus on how the Nuremberg Chronicle was read and perceived in Europe in the age of Reformation\, featuring two copies held by Manchester Central Library. The both books bear the marks of being read and used by several readers\, representing different reading practices in early modern Europe. \nDr Nina Adamova is an Associate Professor at St Petersburg State University and a Visiting Fellow of the British Academy at Manchester Metropolitan University. She specialises in early modern cultural and religious history\, with a special focus on the book history and reading. Her current research project ‘Reading sacred history in Reformation Europe’ explores how people in early modern Europe used to read and interpret the books on church history.
URL:https://librarylive.co.uk/event/treasures-of-manchester-central-library-two-nuremberg-chronicles-1493-and-their-early-modern-readers/
LOCATION:Seminar Suite\, Floor Two
CATEGORIES:Talks
ATTACH;FMTTYPE=image/jpeg:https://librarylive.co.uk/wp-content/uploads/2019/08/Nuremberg-Chronicle.jpg
END:VEVENT
BEGIN:VEVENT
DTSTART;TZID=UTC:20190923T190000
DTEND;TZID=UTC:20190923T203000
DTSTAMP:20260423T230548
CREATED:20190822T133320Z
LAST-MODIFIED:20190822T133320Z
UID:3762-1569265200-1569270600@librarylive.co.uk
SUMMARY:Banned Books Week: Walled In
DESCRIPTION:THIS IS A LIVE SCREENING FROM THE BRITISH LIBRARY \nWriters consider walls in literature and in our lives \nWith David Hare and Ben Okri. Chaired by Samira Ahmed. \nDavid Hare is a playwright and film-maker. He has written over thirty plays which include Plenty\, Racing Demon and Skylight. His many screenplays include The Hours\, The Reader and the Worricker trilogy. \nBen Okri is a poet\, novelist\, essayist\, short story writer and playwright. His novels include the Booker Prize-winning The Famished Road\, the first in a trilogy\, and The Freedom Artist\, published in 2019. \nSamira Ahmed is a freelance journalist\, writer and broadcaster at the BBC\, where she has presented Radio 3’s Night Waves and Radio 4’s PM\, The World Tonight\, and Front Row. She presents the Intelligence Squared podcast ‘How I Found My Voice’. \nThis is a Banned Books Week event in partnership with the British Library\, English PEN\, Free Word\, Hachette UK\, Index on Censorship\, Islington Council’s Library and Heritage Service\, Libraries Connected\, Media Diversified and The Publisher’s Association.
URL:https://librarylive.co.uk/event/banned-books-week-walled-in/
LOCATION:Seminar Suite\, Floor Two
CATEGORIES:Talks
ATTACH;FMTTYPE=image/jpeg:https://librarylive.co.uk/wp-content/uploads/2019/08/banned-book-week-1.jpg
END:VEVENT
END:VCALENDAR