BEGIN:VCALENDAR
VERSION:2.0
PRODID:-//Library Live - ECPv6.15.13.1//NONSGML v1.0//EN
CALSCALE:GREGORIAN
METHOD:PUBLISH
X-WR-CALNAME:Library Live
X-ORIGINAL-URL:https://librarylive.co.uk
X-WR-CALDESC:Events for Library Live
REFRESH-INTERVAL;VALUE=DURATION:PT1H
X-Robots-Tag:noindex
X-PUBLISHED-TTL:PT1H
BEGIN:VTIMEZONE
TZID:UTC
BEGIN:STANDARD
TZOFFSETFROM:+0000
TZOFFSETTO:+0000
TZNAME:UTC
DTSTART:20180101T000000
END:STANDARD
END:VTIMEZONE
BEGIN:VEVENT
DTSTART;TZID=UTC:20190531T190000
DTEND;TZID=UTC:20190531T200000
DTSTAMP:20260424T045208
CREATED:20190409T182829Z
LAST-MODIFIED:20190409T183025Z
UID:3160-1559329200-1559332800@librarylive.co.uk
SUMMARY:Lindsey Kelk\, Paige Toon and Louise Pentland.
DESCRIPTION:Join us for a wonderful\, unique event showcasing best-selling authors Lindsey Kelk\, Paige Toon and Louise Pentland in a discussion of their dazzling new fiction. \nLindsey Kelk is an author\, journalist and former UK children’s book editor and columnist for Marie Claire. Her previous books have sold over one million copies worldwide. Famed for her I Heart series\, her new book\, I heart Hawaii\, is the long-awaited finale. \n‘Kelk has a hilarious turn of phrase and a sparkling writing style.‘- Daily Express \nPaige Toon is the author of seventeen novels\, including the popular The One We Fell In Love With. Having studied Philosophy\, Paige then worked at Heat magazine as Reviews Editor. Her latest book of fiction\, If You Could Go Anywhere\, is dubbed as the perfect summer read for 2019. \n‘Such a beautiful love story- not just a heady\, compelling romance but a really charming\, moving story about how a life is made of so many different kinds of love.’- Daisy Buchanan \nLouise Pentland is the bestselling author of Wilde Like Me and Wilde About the Girl\, which follow single mum Robin Wilde as she navigates life. Wilde Women\, the third book\, comes out July 2019. Louise is also the number one and award-winning parenting vlogger in the UK. \nRobin Wilde is a chatty\, winning yet poignant heroine.’- Sophie Kinsella \nTickets for the event include a glass of wine or soft drink on the night. \nDoors will open at 6.30PM for a 7PM start.
URL:https://librarylive.co.uk/event/an-evening-with-lindsey-kelk-paige-toon-and-louise-pentland/
CATEGORIES:Talks
ATTACH;FMTTYPE=image/jpeg:https://librarylive.co.uk/wp-content/uploads/2019/04/reading_on_the_beach.jpeg
END:VEVENT
END:VCALENDAR