BEGIN:VCALENDAR
VERSION:2.0
PRODID:-//Library Live - ECPv6.15.13.1//NONSGML v1.0//EN
CALSCALE:GREGORIAN
METHOD:PUBLISH
X-ORIGINAL-URL:https://librarylive.co.uk
X-WR-CALDESC:Events for Library Live
REFRESH-INTERVAL;VALUE=DURATION:PT1H
X-Robots-Tag:noindex
X-PUBLISHED-TTL:PT1H
BEGIN:VTIMEZONE
TZID:UTC
BEGIN:STANDARD
TZOFFSETFROM:+0000
TZOFFSETTO:+0000
TZNAME:UTC
DTSTART:20160101T000000
END:STANDARD
END:VTIMEZONE
BEGIN:VEVENT
DTSTART;TZID=UTC:20170724T180000
DTEND;TZID=UTC:20170724T200000
DTSTAMP:20260425T155259
CREATED:20170710T082431Z
LAST-MODIFIED:20170710T132045Z
UID:631-1500919200-1500926400@librarylive.co.uk
SUMMARY:Manchester Pride Presents...The Mancunian Gay magazine revisited
DESCRIPTION:Hear the stories behind some of the magazine’s featured headlines; \n“Anderton on the rampage” \n“Poppers the price you pay” \n“Gay sauna raid” \n“Job security for lesbian and gay workers” \n“New gay bar in Bolton” \nAmateur yet unashamed\, over its lifespan (1978- 1986) The Mancunian Gay magazine documented the evolution of the LGBT rights movement in the UK. Its front pages shed light on a dynamic and vibrant era for queer community activism during the 1980’s. An era equally defined by homophobia\, police harassment and the AIDS crisis. \nManchester Pride in association with Archives+ at Manchester Central Library are delving into the past to uncover some of Manchester’s LGBT hidden histories. \nJoin us as we hear the fascinating story behind the birth of the magazine from one of the founding members of the Mancunian Gay collective\, Paul Fairweather; including how a magazine produced in a kitchen in Greater Manchester gave dispersed and isolated queer people an outlet for participation and inclusion by offering a voice which resonated with many. \nTo commemorate the 50th Anniversary of the Sexual Offences Act\, Manchester Pride has commissioned a special anniversary edition of the The Mancunian Gay Magazine which attendees will be able to take as a momentum of this historic occasion. \nFollowing an exploration of the magazine and its impact on queer culture in Manchester in the early 80s there will be a panel discussion around it’s lasting legacy and the chance for attendees to carry out a Q&A with the panel. \nTickets to the event are limited but free to all who wish to attend. \nAll guests will recieve a welcome drink and a copy of the special anniversary edition of the Mancunian Gay to take home with them.
URL:https://librarylive.co.uk/event/manchester-pride-presents-mancunian-gay-magazine-revisted/
LOCATION:Performance Space
CATEGORIES:Talks
ATTACH;FMTTYPE=image/jpeg:https://librarylive.co.uk/wp-content/uploads/2017/07/MG-image.jpg
END:VEVENT
END:VCALENDAR