BEGIN:VCALENDAR
VERSION:2.0
PRODID:-//Library Live - ECPv6.15.13.1//NONSGML v1.0//EN
CALSCALE:GREGORIAN
METHOD:PUBLISH
X-WR-CALNAME:Library Live
X-ORIGINAL-URL:https://librarylive.co.uk
X-WR-CALDESC:Events for Library Live
REFRESH-INTERVAL;VALUE=DURATION:PT1H
X-Robots-Tag:noindex
X-PUBLISHED-TTL:PT1H
BEGIN:VTIMEZONE
TZID:UTC
BEGIN:STANDARD
TZOFFSETFROM:+0000
TZOFFSETTO:+0000
TZNAME:UTC
DTSTART:20160101T000000
END:STANDARD
END:VTIMEZONE
BEGIN:VEVENT
DTSTART;TZID=UTC:20170525T183000
DTEND;TZID=UTC:20170525T203000
DTSTAMP:20260425T185939
CREATED:20170505T123118Z
LAST-MODIFIED:20170525T091925Z
UID:315-1495737000-1495744200@librarylive.co.uk
SUMMARY:Hari Kunzru - EVENT CANCELLED
DESCRIPTION:EVENT CANCELLED \nManchester Literature Festival have released the following statement:\n\n\n\n‘Upon reflection\, we have decided to cancel our event with Hari Kunzru and Nikesh Shukla at Central Library on Thursday 25th May. We have been deeply saddened by the incident in Manchester earlier this week and know the reverberations are still being felt across our great city. We are sorry to disappoint ticket holders and hope to have Hari visit Manchester Literature Festival again in the future.  Our thoughts are with the many families and partners grieving and know the city and its literary community will stay strong\, united and resilient. Our box office at Quaytickets will be in touch with all customers to offer a refund.\n\n  \nCathy Bolton & Sarah-Jane Roberts\, Manchester Literature Festival Co-Directors’ \n  \n\n\nMore info at: http://www.manchesterliteraturefestival.co.uk/events/hari-kunzru-37671
URL:https://librarylive.co.uk/event/hari-kunzru-in-conversation-with-nikesh-shukla/
CATEGORIES:Talks
ATTACH;FMTTYPE=image/jpeg:https://librarylive.co.uk/wp-content/uploads/2017/05/Hari-C-Clayton-Cubitt-768x960-e1493987107181.jpg
END:VEVENT
END:VCALENDAR