BEGIN:VCALENDAR
VERSION:2.0
PRODID:-//Library Live - ECPv6.15.13.1//NONSGML v1.0//EN
CALSCALE:GREGORIAN
METHOD:PUBLISH
X-ORIGINAL-URL:https://librarylive.co.uk
X-WR-CALDESC:Events for Library Live
REFRESH-INTERVAL;VALUE=DURATION:PT1H
X-Robots-Tag:noindex
X-PUBLISHED-TTL:PT1H
BEGIN:VTIMEZONE
TZID:UTC
BEGIN:STANDARD
TZOFFSETFROM:+0000
TZOFFSETTO:+0000
TZNAME:UTC
DTSTART:20170101T000000
END:STANDARD
END:VTIMEZONE
BEGIN:VEVENT
DTSTART;TZID=UTC:20181206T160000
DTEND;TZID=UTC:20181206T170000
DTSTAMP:20260425T114552
CREATED:20181113T175334Z
LAST-MODIFIED:20181113T180051Z
UID:2574-1544112000-1544115600@librarylive.co.uk
SUMMARY:Ben Thornley & Gary Neville signing Tackled
DESCRIPTION:Come and meet Ben Thornley and Gary Neville who will be signing copies of Tackled at Manchester Central Library on Thursday 6th December from 4pm. \nWho was the standout player when the Class of ’92 won the FA Youth Cup? David Beckham? Paul Scholes? Ryan Giggs? Think again. Ben Thornley: The Class of ’92 Star Who Never Got to Graduate is the compelling autobiography of a teenager who had the world at his feet\, only for one tackle to shatter his knee – and his dreams of playing for Manchester United. A supremely gifted winger with pace to burn\, he played in every round of that Youth Cup run and finished as top scorer. It wasn’t long before Alex Ferguson\, keen to unleash this prodigious talent\, gave him his first-team debut – but just six weeks later came the moment that would change the path of Ben’s career\, and life\, forever. This tale is not only told from Ben’s perspective but also with exclusive insights from those who witnessed him in action first hand. They include family and school friends\, as well as Beckham\, Giggs\, Scholes\, Gary Neville and many more. This is the Class of ’92 as you’ve never heard it before – from a player who was a class apart. \nABOUT THE AUTHOR: \nBen Thornley wrote Tackled with the collaboration of journalist Dan Poole. Dan is now the chief sub-editor of Monocle magazine. He started his career at The Independent and then worked in Sydney for three years\, writing for FHM\, Empire and Rolling Stone. He has also contributed to Manchester United fanzine\, United We Stand. This is his first book. \nTERMS AND CONDITIONS: \nThis is a ticketed event. Purchase price includes one copy of Tackled. \nThe signing will commence from 4pm at Manchester Central Library\, St Peter’s Square\, Manchester\, M2 5PD\nAnyone arriving to the venue before 3.30pm will be asked to return at or after 3.30pm\nDue to the anticipated high turn out\, please be prepared to queue\nRefreshments will not be available at the event but facilities are available at nearby outlets\nThe exact time at which the event ends will be determined by the promoters on the day\nTo avoid disappointment\, we advise you not to arrive any later than the signing start time\nYour ticket entitles you to one book and one place in the queue to have your book signed by Ben Thornley and Gary Neville\nYou will receive your copy of the book at the event\nA member of staff will be on hand to take a picture for you. Selfie style pictures may not be possible on this occasion. Please ensure that your phone/camera is fully charged on the day and has enough storage\nThere will not be an official photographer present at the event\nOnly Tackled will be signed. No other merchandise will be signed\nUnfortunately dedications within the book may not be possible\nAnyone under the age of 14 years must be accompanied by an adult. Any accompanying adults will not require a ticket. Due to time and space limitations only one child can only be accompanied by one parent\nPlease note the event may be filmed\, as an attendee you consent to footage of you being used for promotional purposes\nTickets cannot be resold or transferred and shall not be purchased or obtained from or through any person\, commercial agent\, company or otherwise than directly by the applicant from Ticketmaster UK Ltd. Any tickets advertised for sale will be void\nManagement have the right to refuse entry or remove anyone who does not comply with these rules or who fails to follow reasonable instructions on the day
URL:https://librarylive.co.uk/event/ben-thornley-gary-neville-signing-tackled/
CATEGORIES:Signing
ATTACH;FMTTYPE=image/jpeg:https://librarylive.co.uk/wp-content/uploads/2018/11/tackled.jpg
END:VEVENT
END:VCALENDAR