BEGIN:VCALENDAR
VERSION:2.0
PRODID:-//Library Live - ECPv6.15.13.1//NONSGML v1.0//EN
CALSCALE:GREGORIAN
METHOD:PUBLISH
X-ORIGINAL-URL:https://librarylive.co.uk
X-WR-CALDESC:Events for Library Live
REFRESH-INTERVAL;VALUE=DURATION:PT1H
X-Robots-Tag:noindex
X-PUBLISHED-TTL:PT1H
BEGIN:VTIMEZONE
TZID:UTC
BEGIN:STANDARD
TZOFFSETFROM:+0000
TZOFFSETTO:+0000
TZNAME:UTC
DTSTART:20240101T000000
END:STANDARD
END:VTIMEZONE
BEGIN:VEVENT
DTSTART;TZID=UTC:20250313T140000
DTEND;TZID=UTC:20250313T160000
DTSTAMP:20260422T144807
CREATED:20250307T114546Z
LAST-MODIFIED:20250307T114723Z
UID:10610-1741874400-1741881600@librarylive.co.uk
SUMMARY:IMLD 25: How to Make a Tank Disappear - Screening
DESCRIPTION:At the beginning of the war in Ukraine\, in one Ukrainian village\, a story took place that spread around the world. Even the Polish president tweeted about it. Local Roma people stole a Russian tank. One fine day\, one high-tech combat vehicle became less without a single shot. There was a tank\, and it swam away. Later a lot of things that shoot\, explode\, and kill disappeared additionally- mortars\, cannons\, rockets etc. In that cases not only the Romani but also other people inhabiting Ukraine have tried. In the video performance we will tell you how it happened and why Romani was not punished at all. \nThe video-performance was created by Kherson Theatre Lab within British Council’s Creative Producers Program in 2024-2025. \nFilm running Time: 30 minutes\, followed by an audience Q&A with the film author\, Mykola Homanyuk\, Associate Professor at Kherson State University \nIn English with Ukrainian subtitles – no age restriction \nBook tickets here or using the ‘Book Now’ button below (please pay what you can) \nThis event is part of International Mother Language Day 2025 from Manchester City of Literature.
URL:https://librarylive.co.uk/event/imld-25-how-to-make-a-tank-disappear-screening/
LOCATION:Performance Space
CATEGORIES:Screening
ATTACH;FMTTYPE=image/jpeg:https://librarylive.co.uk/wp-content/uploads/2025/03/002-larger-for-LL.jpg
END:VEVENT
END:VCALENDAR