BEGIN:VCALENDAR
VERSION:2.0
PRODID:-//Library Live - ECPv6.15.13.1//NONSGML v1.0//EN
CALSCALE:GREGORIAN
METHOD:PUBLISH
X-WR-CALNAME:Library Live
X-ORIGINAL-URL:https://librarylive.co.uk
X-WR-CALDESC:Events for Library Live
REFRESH-INTERVAL;VALUE=DURATION:PT1H
X-Robots-Tag:noindex
X-PUBLISHED-TTL:PT1H
BEGIN:VTIMEZONE
TZID:UTC
BEGIN:STANDARD
TZOFFSETFROM:+0000
TZOFFSETTO:+0000
TZNAME:UTC
DTSTART:20240101T000000
END:STANDARD
END:VTIMEZONE
BEGIN:VEVENT
DTSTART;TZID=UTC:20250801T140000
DTEND;TZID=UTC:20250801T160000
DTSTAMP:20260420T053747
CREATED:20250730T103903Z
LAST-MODIFIED:20250730T103903Z
UID:11445-1754056800-1754064000@librarylive.co.uk
SUMMARY:Film Friday
DESCRIPTION:Does Friday afternoon and cinema sound like a good combo to you? \nThen join us at Manchester Central Library for a free film screening with themed crafts! \nWe may even have popcorn! \nSuitable for children up to 12 years old. \nNo need to book\, drop in from 2pm. \nFilm screenings start at 2pm.
URL:https://librarylive.co.uk/event/film-friday/
LOCATION:Performance Space
CATEGORIES:Screening
ATTACH;FMTTYPE=image/jpeg:https://librarylive.co.uk/wp-content/uploads/2025/07/Film-Friday-1-scaled.jpg
END:VEVENT
END:VCALENDAR