BEGIN:VCALENDAR
VERSION:2.0
PRODID:-//Library Live - ECPv6.15.13.1//NONSGML v1.0//EN
CALSCALE:GREGORIAN
METHOD:PUBLISH
X-ORIGINAL-URL:https://librarylive.co.uk
X-WR-CALDESC:Events for Library Live
REFRESH-INTERVAL;VALUE=DURATION:PT1H
X-Robots-Tag:noindex
X-PUBLISHED-TTL:PT1H
BEGIN:VTIMEZONE
TZID:UTC
BEGIN:STANDARD
TZOFFSETFROM:+0000
TZOFFSETTO:+0000
TZNAME:UTC
DTSTART:20190101T000000
END:STANDARD
END:VTIMEZONE
BEGIN:VEVENT
DTSTART;TZID=UTC:20201026T140000
DTEND;TZID=UTC:20201026T150000
DTSTAMP:20260423T021048
CREATED:20200928T114817Z
LAST-MODIFIED:20200928T114817Z
UID:5025-1603720800-1603724400@librarylive.co.uk
SUMMARY:Family Crafts with Simone: Fantasy Landscapes
DESCRIPTION:Fantasy Landscapes with Simone \nDo you need a change of scene? Simone will help you create a masterpiece today. There is even a sew it yourself tip for those who need an extra challenge. \nWatch the Fantasy Landscapes session with Simone on Manchester Libraries Facebook page at 2pm on Monday 26 October \nFree online event
URL:https://librarylive.co.uk/event/family-crafts-with-simone-fantasy-landscapes/
LOCATION:Online
CATEGORIES:Online Event
ATTACH;FMTTYPE=image/jpeg:https://librarylive.co.uk/wp-content/uploads/2020/09/Simone-image-1.jpg
END:VEVENT
END:VCALENDAR