BEGIN:VCALENDAR
VERSION:2.0
PRODID:-//Library Live - ECPv6.15.13.1//NONSGML v1.0//EN
CALSCALE:GREGORIAN
METHOD:PUBLISH
X-ORIGINAL-URL:https://librarylive.co.uk
X-WR-CALDESC:Events for Library Live
REFRESH-INTERVAL;VALUE=DURATION:PT1H
X-Robots-Tag:noindex
X-PUBLISHED-TTL:PT1H
BEGIN:VTIMEZONE
TZID:UTC
BEGIN:STANDARD
TZOFFSETFROM:+0000
TZOFFSETTO:+0000
TZNAME:UTC
DTSTART:20190101T000000
END:STANDARD
END:VTIMEZONE
BEGIN:VEVENT
DTSTART;TZID=UTC:20201019T173000
DTEND;TZID=UTC:20201019T183000
DTSTAMP:20260423T034959
CREATED:20200928T140804Z
LAST-MODIFIED:20200928T141116Z
UID:5070-1603128600-1603132200@librarylive.co.uk
SUMMARY:Ancestry Talks with Paul Crooks
DESCRIPTION:Tracing African Caribbean Ancestry – Who do you think you are? \nJoin Ancestry Talks’ Paul Crooks for this captivating account of how he traced his Black Caribbean ancestors enslaved on a sugar plantation in Jamaica\, 200 years ago. In this masterclass\, Paul captivates audiences with his unique account of how he traced his roots and his family’s migration down through the generations to Windrush. \nAbout the Speaker \nTrailblazing author and family historian Paul Crooks pioneered research into African Caribbean genealogy during the 1990s. He traced his family history from London\, back 6 generations\, to ancestors captured off the West African coast and enslaved on a sugar plantation in Jamaica. \nIn the 1990’s\, Paul was told that it would be impossible to trace records of slave-ownership let alone his African ancestors enslaved on plantations in Jamaica. “No one had tried because such records did not exist.” Undeterred\, he embarked on a journey of discovery that led from suburban North London to Jamaica and ultimately back to the Gold Coast of Africa; an effort that has brought him international recognition for his breakthroughs in Tracing black ancestry. \nBook your free place via Evenbrite
URL:https://librarylive.co.uk/event/ancestry-talks-with-paul-crooks-2/
LOCATION:Online
CATEGORIES:Online Event
ATTACH;FMTTYPE=image/png:https://librarylive.co.uk/wp-content/uploads/2020/09/Windrush-Black-History-Roots.png
END:VEVENT
END:VCALENDAR