BEGIN:VCALENDAR
VERSION:2.0
PRODID:-//Library Live - ECPv6.15.13.1//NONSGML v1.0//EN
CALSCALE:GREGORIAN
METHOD:PUBLISH
X-WR-CALNAME:Library Live
X-ORIGINAL-URL:https://librarylive.co.uk
X-WR-CALDESC:Events for Library Live
REFRESH-INTERVAL;VALUE=DURATION:PT1H
X-Robots-Tag:noindex
X-PUBLISHED-TTL:PT1H
BEGIN:VTIMEZONE
TZID:UTC
BEGIN:STANDARD
TZOFFSETFROM:+0000
TZOFFSETTO:+0000
TZNAME:UTC
DTSTART:20190101T000000
END:STANDARD
END:VTIMEZONE
BEGIN:VEVENT
DTSTART;TZID=UTC:20200925T190000
DTEND;TZID=UTC:20200925T200000
DTSTAMP:20260423T054334
CREATED:20200909T132027Z
LAST-MODIFIED:20200909T132027Z
UID:5000-1601060400-1601064000@librarylive.co.uk
SUMMARY:An Evening with Lesley Pearse
DESCRIPTION:Manchester Libraries\, Libraries Connected and Penguin Books invite you to join us for a special Friday evening with the hugely popular author Lesley Pearse. \nLesley Pearse was told as a child that she had too much imagination for her own good. When she grew up she worked her way through a number of jobs\, including nanny\, bunny girl\, dressmaker and full-time mother\, before\, at the age of forty-nine\, settling upon a career that would allow her gifts to blossom: she became a published writer. Lesley lives in Devon and has three daughters and four grandchildren.  \nWIN A BOTTLE OF FIZZ! \nEveryone who registers will be entered into a prize draw to win a bottle of Prosecco (or non alcoholic alternative) to enjoy a glass of while taking part in the event with Lesley. Please remember to fill in your address when registering so we can post it out to you. The closing date is Sunday 20 September.  \nLiar by Lesley Pearse \nDiscover the enthralling new story of murder and lies by the bestselling author of ‘You’ll Never See Me Again’. \nIn a Shepherd’s Bush bedsit\, Amelia White dreams of being a reporter. The closest she’s come is selling advertising in the local paper. \nUntil the fateful day she stumbles on a truly shocking scoop. \nRound the corner from her home\, she discovers the body of a murder victim\, dumped among the rubbish. When the police and reporters descend\, Amelia is horrified at the assumptions made and lies soon to be spread about this poor young woman. \nDetermined to protect the victim from these smears and help her grieving family\, she convinces her paper’s editor to allow her to take up her pen and tell the true story. \nBut when another body is found and the police investigation stalls\, Amelia – uncovering new witnesses and suspects in her search for clues – discovers that she may be the only one with any chance of learning the truth and stopping more killings. \nIf only she can work out who the liar is . . . \nPraise for Lesley Pearse \n‘Storytelling at its very best’ Daily Mail  \n‘Evocative\, compelling\, told from the heart’ Sunday Express \n‘Glorious\, heartwarming’ Woman & Home \n‘Intriguing\, heart-tugging\, beautifully written’ Closer
URL:https://librarylive.co.uk/event/an-evening-with-lesley-pearse/
LOCATION:Online
CATEGORIES:Author Event,Online Event
ATTACH;FMTTYPE=image/jpeg:https://librarylive.co.uk/wp-content/uploads/2020/09/lesley-pearse-twitter-banner.jpg
END:VEVENT
END:VCALENDAR