BEGIN:VCALENDAR
VERSION:2.0
PRODID:-//Library Live - ECPv6.15.13.1//NONSGML v1.0//EN
CALSCALE:GREGORIAN
METHOD:PUBLISH
X-WR-CALNAME:Library Live
X-ORIGINAL-URL:https://librarylive.co.uk
X-WR-CALDESC:Events for Library Live
REFRESH-INTERVAL;VALUE=DURATION:PT1H
X-Robots-Tag:noindex
X-PUBLISHED-TTL:PT1H
BEGIN:VTIMEZONE
TZID:UTC
BEGIN:STANDARD
TZOFFSETFROM:+0000
TZOFFSETTO:+0000
TZNAME:UTC
DTSTART:20190101T000000
END:STANDARD
END:VTIMEZONE
BEGIN:VEVENT
DTSTART;TZID=UTC:20200904T080000
DTEND;TZID=UTC:20200905T170000
DTSTAMP:20260423T054333
CREATED:20200904T084516Z
LAST-MODIFIED:20200904T084516Z
UID:4987-1599206400-1599325200@librarylive.co.uk
SUMMARY:Manchester Histories DigiFest 2020-Online Screening
DESCRIPTION:Due to Covid19 Manchester Histories presents its first ever DigiFest\, taking place on Friday 4 & Saturday 5th September 2020\, transmitting live from Central Library’s Performance Space. \nYou can now see the online programme of events\, to find out what’s on and how to get involved. Click here to see the programme. Click here to download the PDF. \nClick here to watch the live stream from 6:50pm on Friday and 12-6pm on Saturday \nManchester Histories DigiFest 2020 will mark the 50-year anniversary of the Chronically Sick and Disabled Persons Act (CSDPA) 1970. \nThis landmark legislation was pioneered by the late Lord Alf Morris\, who subsequently became Britain’s first minister for disabled people. Often described at the Magna Carta for disabled people\, this was the first disability rights legislation anywhere in the world and laid the foundations for the Disability Discrimination Act 1995 and the Equality Act 2010. \nAlf Morris was born and bred in Manchester and served as an MP for Wythenshawe. Throughout his lifetime\, he campaigned tirelessly for the rights of disabled people. \nDigiFest brings together disabled and non-disabled people\, from organisations and as individuals\, who have worked collaboratively to put together DigiFest 2020\, with lots of additional content coming from a public call out. \nBroadcasting live from Manchester’s Central Library\, DigiFest will be hosted by multi-award winning artist and activist Jackie Hagan and leading the celebrations will be Lord Alf Morris’ family. \nJackie says\, “I’m delighted to be hosting this event – to celebrate a local working class man like Alf Morris who worked so hard to give disabled people the legal recognition we need. \n“We’ve got a fantastic array of talent on board and an exciting way of getting round lock-down that I think will mean more disabled and non-disabled people can attend.  People can come to hear so many brilliant disabled artists\, a fitting tribute to Alf Morris and his work.” \nManchester Histories DigiFest 2020 is a collaborative programme between The University of Manchester\, the family of the late Lord Morris of Manchester\, Manchester Metropolitan University\, University of Manchester’s Students’ Union\, the TUC (Manchester)\, Manchester City Council and the Greater Manchester Coalition of Disabled People. Manchester Histories DigiFest 2020 will also kick start other activity click here to find out more.
URL:https://librarylive.co.uk/event/manchester-histories-digifest-2020-online-screening/
LOCATION:Online
CATEGORIES:Online Event
ATTACH;FMTTYPE=image/jpeg:https://librarylive.co.uk/wp-content/uploads/2020/09/jackie-hagan.jpg
END:VEVENT
END:VCALENDAR