BEGIN:VCALENDAR
VERSION:2.0
PRODID:-//Library Live - ECPv6.15.13.1//NONSGML v1.0//EN
CALSCALE:GREGORIAN
METHOD:PUBLISH
X-WR-CALNAME:Library Live
X-ORIGINAL-URL:https://librarylive.co.uk
X-WR-CALDESC:Events for Library Live
REFRESH-INTERVAL;VALUE=DURATION:PT1H
X-Robots-Tag:noindex
X-PUBLISHED-TTL:PT1H
BEGIN:VTIMEZONE
TZID:UTC
BEGIN:STANDARD
TZOFFSETFROM:+0000
TZOFFSETTO:+0000
TZNAME:UTC
DTSTART:20220101T000000
END:STANDARD
END:VTIMEZONE
BEGIN:VEVENT
DTSTART;TZID=UTC:20231108T110000
DTEND;TZID=UTC:20231108T113000
DTSTAMP:20260421T154651
CREATED:20231017T095831Z
LAST-MODIFIED:20231017T095831Z
UID:7894-1699441200-1699443000@librarylive.co.uk
SUMMARY:Under the Little Red Moon
DESCRIPTION:Join Lulu\, Monty and their friend Tom on a vibrant and colourful journey in English Touring Opera’s new opera for babies\, which explores the development of language with the help of music and movement. Composed by Russell Hepplewhite. Suitable for babies aged 6−24 months. \nFree – booking required below
URL:https://librarylive.co.uk/event/under-the-little-red-moon/
LOCATION:Performance Space
CATEGORIES:Family
ATTACH;FMTTYPE=image/png:https://librarylive.co.uk/wp-content/uploads/2023/10/UtLM.png
END:VEVENT
END:VCALENDAR