BEGIN:VCALENDAR
VERSION:2.0
PRODID:-//Library Live - ECPv6.15.13.1//NONSGML v1.0//EN
CALSCALE:GREGORIAN
METHOD:PUBLISH
X-WR-CALNAME:Library Live
X-ORIGINAL-URL:https://librarylive.co.uk
X-WR-CALDESC:Events for Library Live
REFRESH-INTERVAL;VALUE=DURATION:PT1H
X-Robots-Tag:noindex
X-PUBLISHED-TTL:PT1H
BEGIN:VTIMEZONE
TZID:UTC
BEGIN:STANDARD
TZOFFSETFROM:+0000
TZOFFSETTO:+0000
TZNAME:UTC
DTSTART:20220101T000000
END:STANDARD
END:VTIMEZONE
BEGIN:VEVENT
DTSTART;TZID=UTC:20231014T103000
DTEND;TZID=UTC:20231014T123000
DTSTAMP:20260421T190659
CREATED:20230817T083904Z
LAST-MODIFIED:20230904T112415Z
UID:7567-1697279400-1697286600@librarylive.co.uk
SUMMARY:Little Reads Family Day with Nathan Bryon & Dapo Adeola
DESCRIPTION:Author Nathan Bryon and illustrator Dapo Adeola’s loveable character Rocket has already taught us about space in the award-winning Look Up! Then she tackled ocean pollution in Clean Up! Now\, in Speak Up! she’s back to save her local library which she is horrified to learn is closing for lack of funding. Hear how Dapo and Nathan created Rocket and what inspired her adventures in this action-packed event about speaking up for what you believe in. Includes Speak Up! activity trail and crafting. Presented by Manchester Literature Festival. \nSuitable for ages 3 – 6 \nImage credit: Tim Lane\, Penguin Books
URL:https://librarylive.co.uk/event/little-reads-family-day-with-nathan-bryon-dapo-adeola/
LOCATION:Performance Space
CATEGORIES:Family
ATTACH;FMTTYPE=image/jpeg:https://librarylive.co.uk/wp-content/uploads/2023/08/Nathan-portrait-2-CREDIT-TIM-LANE-PENGUIN-BOOKS-copy-lower-res-cropped.jpg
END:VEVENT
END:VCALENDAR