BEGIN:VCALENDAR
VERSION:2.0
PRODID:-//Library Live - ECPv6.15.13.1//NONSGML v1.0//EN
CALSCALE:GREGORIAN
METHOD:PUBLISH
X-WR-CALNAME:Library Live
X-ORIGINAL-URL:https://librarylive.co.uk
X-WR-CALDESC:Events for Library Live
REFRESH-INTERVAL;VALUE=DURATION:PT1H
X-Robots-Tag:noindex
X-PUBLISHED-TTL:PT1H
BEGIN:VTIMEZONE
TZID:UTC
BEGIN:STANDARD
TZOFFSETFROM:+0000
TZOFFSETTO:+0000
TZNAME:UTC
DTSTART:20210101T000000
END:STANDARD
END:VTIMEZONE
BEGIN:VEVENT
DTSTART;TZID=UTC:20221026T140000
DTEND;TZID=UTC:20221026T170000
DTSTAMP:20260422T130440
CREATED:20220923T115850Z
LAST-MODIFIED:20220927T101344Z
UID:6535-1666792800-1666803600@librarylive.co.uk
SUMMARY:History of Carnival Workshops by Linford Sweeney
DESCRIPTION:The history of Caribbean Carnivals is much more complex than many realise.  Carnival has origins based in colonialism and religious conversion\, but it has now become a festival and celebration tied to freedom and emancipation from slavery.  Learn about how established African-Caribbean communities transferred the traditions associated with carnival to Manchester as we explore the roots of the different aspects of carnival. \n\nWednesday 26 October at 2pm for families – suitable for age 10+\n\nBook via www.racearchive.org.uk/events/black-history-month/
URL:https://librarylive.co.uk/event/history-of-carnival-workshops-by-linford-sweeney-2/
LOCATION:Performance Space
CATEGORIES:Family
ATTACH;FMTTYPE=image/jpeg:https://librarylive.co.uk/wp-content/uploads/2022/09/Linford-Sweeney_History-Of-Carnival.jpg
END:VEVENT
END:VCALENDAR