BEGIN:VCALENDAR
VERSION:2.0
PRODID:-//Library Live - ECPv6.15.13.1//NONSGML v1.0//EN
CALSCALE:GREGORIAN
METHOD:PUBLISH
X-WR-CALNAME:Library Live
X-ORIGINAL-URL:https://librarylive.co.uk
X-WR-CALDESC:Events for Library Live
REFRESH-INTERVAL;VALUE=DURATION:PT1H
X-Robots-Tag:noindex
X-PUBLISHED-TTL:PT1H
BEGIN:VTIMEZONE
TZID:UTC
BEGIN:STANDARD
TZOFFSETFROM:+0000
TZOFFSETTO:+0000
TZNAME:UTC
DTSTART:20210101T000000
END:STANDARD
END:VTIMEZONE
BEGIN:VEVENT
DTSTART;TZID=UTC:20221015T103000
DTEND;TZID=UTC:20221015T123000
DTSTAMP:20260422T130441
CREATED:20220902T092317Z
LAST-MODIFIED:20220914T111028Z
UID:6414-1665829800-1665837000@librarylive.co.uk
SUMMARY:Little Reads Family Day
DESCRIPTION:Looking for a fun way to introduce children to important environmental issues? Sarah Roberts\, author of the acclaimed Somebody Swallowed Stanley\, will be sharing her latest beautifully illustrated book Somebody Woke Wilson. For millions of years\, Wilson has slept toasty deep underground\, along with billions of other carbon atoms. But when Wilson is suddenly woken\, he is swept away on a startling adventure. \nSarah will be joined by our wonderful Little Reads artist Nanya Lad providing a big fun craft session making recycled craft to take home. You can also go on an adventure around Central Library with our Earth Activity Trail. Collect your activity sheet and follow the big footprints to learn about the world around you. Collect your prize at the end! \nSuitable for ages 3 – 6 (please note all children must be accompanied by a responsible adult) \nBook on 0343 208 0500 or ‘book now’ link below
URL:https://librarylive.co.uk/event/little-reads-family-day/
LOCATION:Performance Space
CATEGORIES:Family
ATTACH;FMTTYPE=image/jpeg:https://librarylive.co.uk/wp-content/uploads/2022/09/Little-Reads-2021-3-resized.jpg
END:VEVENT
END:VCALENDAR